Workbook

Sheet SAŽETAK
A1: FINANCIJSKI PLAN NARODNE KNJIŽNICE I ČITAONICE KLIS ZA 2026. I PROJEKCIJA ZA 2027. I 2028. GODINU
A3: I. OPĆI DIO
A5: A) SAŽETAK RAČUNA PRIHODA I RASHODA
J6: EUR
F7: Izvršenje 2024. | G7: Plan 2025. | H7: Proračun za 2026. | I7: Projekcija proračuna za 2027. | J7: Projekcija proračuna za 2028.
A8: PRIHODI UKUPNO | F8: =F9+F10 -> 78820.1 | G8: =G9+G10 -> 111325 | H8: =H9+H10 -> 126445 | I8: =I9+I10 -> 122290 | J8: =J9+J10 -> 122644
A9: 6 PRIHODI POSLOVANJA | F9: =' Račun prihoda i rashoda'!F11 -> 78820.1 | G9: =' Račun prihoda i rashoda'!G11 -> 111325 | H9: =' Račun prihoda i rashoda'!H11 -> 126445 | I9: =' Račun prihoda i rashoda'!I11 -> 122290 | J9: =' Račun prihoda i rashoda'!J11 -> 122644
A10: 7 PRIHODI OD PRODAJE NEFINANCIJSKE IMOVINE | F10: =' Račun prihoda i rashoda'!F44 -> 0 | G10: =' Račun prihoda i rashoda'!G44 -> 0 | H10: =' Račun prihoda i rashoda'!H44 -> 0 | I10: =' Račun prihoda i rashoda'!I44 -> 0 | J10: =' Račun prihoda i rashoda'!J44 -> 0
A11: RASHODI UKUPNO | F11: =F12+F13 -> 76376.61 | G11: =G12+G13 -> 117276.6 | H11: =H12+H13 -> 126595 | I11: =I12+I13 -> 122290 | J11: =J12+J13 -> 122644
A12: 3 RASHODI POSLOVANJA | F12: =' Račun prihoda i rashoda'!F52 -> 60797.17 | G12: =' Račun prihoda i rashoda'!G52 -> 100176.6 | H12: =' Račun prihoda i rashoda'!H52 -> 111495 | I12: =' Račun prihoda i rashoda'!I52 -> 104690 | J12: =' Račun prihoda i rashoda'!J52 -> 105044
A13: 4 RASHODI ZA NABAVU NEFINANCIJSKE IMOVINE | F13: =' Račun prihoda i rashoda'!F95 -> 15579.44 | G13: =' Račun prihoda i rashoda'!G95 -> 17100 | H13: =' Račun prihoda i rashoda'!H95 -> 15100 | I13: =' Račun prihoda i rashoda'!I95 -> 17600 | J13: =' Račun prihoda i rashoda'!J95 -> 17600
A14: RAZLIKA - VIŠAK / MANJAK | F14: =F8-F11 -> 2443.49 | G14: =G8-G11 -> -5951.6 | H14: =H8-H11 -> -150 | I14: =I8-I11 -> 0 | J14: =J8-J11 -> 0
A16: B) SAŽETAK RAČUNA FINANCIRANJA
F18: Izvršenje 2024. | G18: Plan 2025. | H18: Proračun za 2026. | I18: Projekcija proračuna za 2027. | J18: Projekcija proračuna za 2028.
A19: 8 PRIMICI OD FINANCIJSKE IMOVINE I ZADUŽIVANJA
A20: 5 IZDACI ZA FINANCIJSKU IMOVINU I OTPLATE ZAJMOVA
A21: NETO FINANCIRANJE | F21: =F19-F20 -> 0 | G21: =G19-G20 -> 0 | H21: =H19-H20 -> 0 | I21: =I19-I20 -> 0 | J21: =J19-J20 -> 0
A22: VIŠAK / MANJAK + NETO FINANCIRANJE | F22: =F14+F21 -> 2443.49 | G22: =G14+G21 -> -5951.6 | H22: =H14+H21 -> -150 | I22: =I14+I21 -> 0 | J22: =J14+J21 -> 0
A24: C) PRENESENI VIŠAK ILI PRENESENI MANJAK
F26: Izvršenje 2024. | G26: Plan 2025. | H26: Proračun za 2026. | I26: Projekcija proračuna za 2027. | J26: Projekcija proračuna za 2028.
A27: PRIJENOS VIŠKA / MANJKA IZ PRETHODNE(IH) GODINE | F27: 1155.17 | G27: =F28 -> 3598.66 | H27: 150 | I27: =H28 -> 0 | J27: =I28 -> 0
A28: PRIJENOS VIŠKA / MANJKA U SLJEDEĆE RAZDOBLJE | F28: =F22+F27 -> 3598.66 | G28: =G22+G27 -> -2352.94 | H28: =H22+H27 -> 0 | I28: =I22+I27 -> 0 | J28: =J22+J27 -> 0
A29: VIŠAK / MANJAK + NETO FINANCIRANJE + PRIJENOS VIŠKA / MANJKA IZ PRETHODNE(IH) GODINE - PRIJENOS VIŠKA / MANJKA U SLJEDEĆE RAZDOBLJE | F29: =F14+F21+F27-F28 -> 0 | G29: =G14+G21+G27-G28 -> 0 | H29: =H14+H21+H27-H28 -> 0 | I29: =I14+I21+I27-I28 -> 0 | J29: =J14+J21+J27-J28 -> 0
A31: D) VIŠEGODIŠNJI PLAN URAVNOTEŽENJA
F33: Izvršenje 2024. | G33: Plan 2025. | H33: Proračun za 2026. | I33: Projekcija proračuna za 2027. | J33: Projekcija proračuna za 2028.
A34: PRIJENOS VIŠKA / MANJKA IZ PRETHODNE(IH) GODINE | F34: =F27 -> 1155.17 | G34: =F37 -> 3598.66 | H34: 0 | I34: =H37 -> 0 | J34: =I37 -> 0
A35: VIŠAK / MANJAK IZ PRETHODNE(IH) GODINE KOJI ĆE SE RASPOREDITI / POKRITI | G35: 0 | H35: 0 | I35: 0 | J35: 0
A36: VIŠAK / MANJAK TEKUĆE GODINE | F36: =F22 -> 2443.49 | G36: =G22 -> -5951.6 | H36: 0 | I36: 0 | J36: 0
A37: PRIJENOS VIŠKA / MANJKA U SLJEDEĆE RAZDOBLJE | F37: =F34-F35+F36 -> 3598.66 | G37: =G34-G35+G36 -> -2352.94 | H37: 0 | I37: =I34-I35+I36 -> 0 | J37: =J34-J35+J36 -> 0

Sheet  Račun prihoda i rashoda
A1: FINANCIJSKI PLAN NARODNE KNJIŽNICE I ČITAONICE KLIS ZA 2026. I PROJEKCIJA ZA 2027. I 2028. GODINU
A3: I. OPĆI DIO
A5: A. RAČUN PRIHODA I RASHODA
A7: PRIHODI POSLOVANJA PREMA EKONOMSKOJ KLASIFIKACIJI
A9: Razred | B9: Skupina | E9: Naziv prihoda | F9: Izvršenje 2024. | G9: Plan 2025. | H9: Proračun za 2026. | I9: Projekcija proračuna za 2027. | J9: Projekcija proračuna za 2028.
E10: PRIHODI UKUPNO | F10: =F11 -> 78820.1 | G10: =G11 -> 111325 | H10: =H11 -> 126445 | I10: =I11 -> 122290 | J10: =J11 -> 122644
A11: 6 | E11: Prihodi poslovanja | F11: =F12+F18+F21+F26+F33+F37 -> 78820.1 | G11: =G12+G18+G21+G26+G33+G37 -> 111325 | H11: =H12+H18+H21+H26+H33+H37 -> 126445 | I11: =I12+I18+I21+I26+I33+I37 -> 122290 | J11: =J12+J18+J21+J26+J33+J37 -> 122644
B12: 63 | E12: Pomoći iz inozemstva i od subjekata unutar općeg proračuna | F12: =F15+F13 -> 13817.6 | G12: =G15+G13 -> 9000 | H12: =H15+H13 -> 17300 | I12: =I15+I13 -> 10700 | J12: =J15+J13 -> 10700
C13: 632 | E13: Pomoći od međunarodnih organizacija te institucija i tijela EU | F13: =F14 -> 0 | G13: =G14 -> 0 | H13: =H14 -> 5800 | I13: =I14 -> 0 | J13: =J14 -> 0
D14: 6323 | E14: Tekuće pomoći od institucija i tijela EU | F14: ='POSEBNI DIO'!E113 -> 0 | G14: ='POSEBNI DIO'!F113 -> 0 | H14: ='POSEBNI DIO'!G113 -> 5800 | I14: ='POSEBNI DIO'!H113 -> 0 | J14: ='POSEBNI DIO'!I113 -> 0
C15: 636 | E15: Pomoći proračunskim korisnicima iz proračuna koji im nije nadležan | F15: =SUM(F16:F17) -> 13817.6 | G15: =SUM(G16:G17) -> 9000 | H15: =SUM(H16:H17) -> 11500 | I15: =SUM(I16:I17) -> 10700 | J15: =SUM(J16:J17) -> 10700
D16: 6361 | E16: Tekuće pomoći iz nenadležnog proračuna - PK | F16: 3210.23 | G16: ='POSEBNI DIO'!F61 -> 0 | H16: ='POSEBNI DIO'!G62 -> 2000 | I16: ='POSEBNI DIO'!H62 -> 1200 | J16: ='POSEBNI DIO'!I62 -> 1200
D17: 6362 | E17: Kapitalne pomoći iz nenadležnog proračuna - PK | F17: 10607.37 | G17: ='POSEBNI DIO'!F96 -> 9000 | H17: ='POSEBNI DIO'!G96 -> 9500 | I17: ='POSEBNI DIO'!H96 -> 9500 | J17: ='POSEBNI DIO'!I96 -> 9500
B18: 64 | E18: Prihodi od imovine | F18: =F19 -> 0.03 | G18: =G19 -> 0 | H18: =H19 -> 0 | I18: =I19 -> 0 | J18: =J19 -> 0
C19: 641 | E19: Prihodi od financijske imovine | F19: =F20 -> 0.03 | G19: =G20 -> 0 | H19: =H20 -> 0 | I19: =I20 -> 0 | J19: =J20 -> 0
D20: 6413 | E20: Kamate na sredstva i depozite po viđenju | F20: 0.03 | G20: 0
B21: 65 | E21: Prihodi od upravnih i administrativnih pristojbi, pristojbi po posebnim propisima i naknada | F21: =F24+F22 -> 196.5 | G21: =G24+G22 -> 807.5 | H21: =H24+H22 -> 180 | I21: =I24+I22 -> 180 | J21: =J24+J22 -> 180
C22: 651 | E22: Upravne i administrativne pristojbe | F22: =F23 -> 0 | G22: =G23 -> 0 | H22: =H23 -> 0 | I22: =I23 -> 0 | J22: =J23 -> 0
D23: 6514 | E23: Ostale pristojbe i naknade | F23: 0 | G23: ='POSEBNI DIO'!F36*0.5 -> 0 | H23: ='POSEBNI DIO'!G36*0.5 -> 0 | I23: ='POSEBNI DIO'!H36*0.5 -> 0 | J23: ='POSEBNI DIO'!I36*0.5 -> 0
C24: 652 | E24: Prihodi po posebnim propisima | F24: =F25 -> 196.5 | G24: =G25 -> 807.5 | H24: =H25 -> 180 | I24: =I25 -> 180 | J24: =J25 -> 180
D25: 6526 | E25: Ostali nespomenuti prihodi | F25: 196.5 | G25: ='POSEBNI DIO'!F43*0.5 -> 807.5 | H25: ='POSEBNI DIO'!G43*0.5 -> 180 | I25: ='POSEBNI DIO'!H43*0.5 -> 180 | J25: ='POSEBNI DIO'!I43*0.5 -> 180
B26: 66 | E26: Prihodi od prodaje proizvoda i robe te pruženih usluga i prihodi od donacija | F26: =F27+F30 -> 0 | G26: =G27 -> 0 | H26: =H27 -> 0 | I26: =I27 -> 0 | J26: =J27 -> 0
C27: 661 | E27: Prihodi od prodaje proizvoda i robe te pruženih usluga | F27: =SUM(F28:F29) -> 0 | G27: =SUM(G28:G29) -> 0 | H27: =SUM(H28:H29) -> 0 | I27: =SUM(I28:I29) -> 0 | J27: =SUM(J28:J29) -> 0
D28: 6614 | E28: Prihodi od prodaje proizvoda i robe
D29: 6615 | E29: Prihodi od pružanja usluga | F29: 0
C30: 663 | E30: Donacije od pravnih i fizičkih osoba izvan općeg proračuna i povrat donacija po protestiranim jamstvima | F30: =SUM(F31:F32) -> 0 | G30: =SUM(G31:G32) -> 0 | H30: =SUM(H31:H32) -> 0 | I30: =SUM(I31:I32) -> 0 | J30: =SUM(J31:J32) -> 0
D31: 6631 | E31: Tekuće donacije | F31: 0
D32: 6632 | E32: Kapitalne donacije | F32: 0
B33: 67 | E33: Prihodi iz nadležnog proračuna i od HZZO-a temeljem ugovornih obveza | F33: =F34 -> 64689.51 | G33: =G34 -> 100710 | H33: =H34 -> 108785 | I33: =I34 -> 111230 | J33: =J34 -> 111584
C34: 671 | E34: Prihodi iz nadležnog proračuna za financiranje redovne djelatnosti proračunskih korisnika | F34: =SUM(F35:F36) -> 64689.51 | G34: =SUM(G35:G36) -> 100710 | H34: =SUM(H35:H36) -> 108785 | I34: =SUM(I35:I36) -> 111230 | J34: =SUM(J35:J36) -> 111584
D35: 6711 | E35: Prihodi za financiranje rashoda poslovanja | F35: 59717.44 | G35: ='POSEBNI DIO'!F8 -> 92610 | H35: ='POSEBNI DIO'!G8 -> 103185 | I35: ='POSEBNI DIO'!H8 -> 103130 | J35: ='POSEBNI DIO'!I8 -> 103484
D36: 6712 | E36: Prihodi za financiranje rashoda za nabavu nefinancijske imovine | F36: 4972.07 | G36: ='POSEBNI DIO'!F89 -> 8100 | H36: ='POSEBNI DIO'!G89 -> 5600 | I36: ='POSEBNI DIO'!H89 -> 8100 | J36: ='POSEBNI DIO'!I89 -> 8100
B37: 68 | E37: Kazne, upravne mjere i ostali prihodi | F37: =F38+F40 -> 116.46 | G37: =G38+G40 -> 807.5 | H37: =H38+H40 -> 180 | I37: =I38+I40 -> 180 | J37: =J38+J40 -> 180
C38: 681 | E38: Kazne i upravne mjere | F38: =SUM(F39) -> 116.46 | G38: =SUM(G39) -> 807.5 | H38: =SUM(H39) -> 180 | I38: =SUM(I39) -> 180 | J38: =SUM(J39) -> 180
D39: 6819 | E39: Ostale kazne | F39: 116.46 | G39: ='POSEBNI DIO'!F43*0.5 -> 807.5 | H39: ='POSEBNI DIO'!G43*0.5 -> 180 | I39: ='POSEBNI DIO'!H43*0.5 -> 180 | J39: ='POSEBNI DIO'!I43*0.5 -> 180
C40: 683 | D40: 683 | E40: Ostali prihodi | F40: =F41+F42 -> 0 | G40: =G41+G42 -> 0 | H40: =H41+H42 -> 0 | I40: =I41+I42 -> 0 | J40: =J41+J42 -> 0
D41: 6831 | E41: Prihodi za financiranje rashoda za nabavu nefinancijske imovine | F41: 0
D42: 683 | E42: Ostali prihodi | F42: 0
D43: …
A44: 7 | E44: Prihodi od prodaje nefinancijske imovine
...

Sheet Prihodi i rashodi po izvorima
A1: FINANCIJSKI PLAN NARODNE KNJIŽNICE I ČITAONICE KLIS ZA 2026. I PROJEKCIJA ZA 2027. I 2028. GODINU
A3: I. OPĆI DIO
A5: A. RAČUN PRIHODA I RASHODA
A7: PRIHODI POSLOVANJA PREMA IZVORIMA FINANCIRANJA
A9: Brojčana oznaka i naziv | B9: Izvršenje 2024. | C9: Plan 2025. | D9: Proračun za 2026. | E9: Projekcija proračuna za 2027. | F9: Projekcija proračuna za 2028.
A10: PRIHODI UKUPNO | B10: =B11+B14+B16+B18 -> 78820.07 | C10: =C11+C14+C16+C18 -> 111325 | D10: =D11+D14+D16+D18 -> 132245 | E10: =E11+E14+E16+E18 -> 122290 | F10: =F11+F14+F16+F18 -> 122644
A11: 1 Opći prihodi i primici | B11: =SUM(B12:B13) -> 64689.51 | C11: =SUM(C12:C13) -> 100710 | D11: =SUM(D12:D13) -> 108785 | E11: =SUM(E12:E13) -> 111230 | F11: =SUM(F12:F13) -> 111584
A12: 11 Opći prihodi i primici | B12: =' Račun prihoda i rashoda'!F33 -> 64689.51 | C12: =' Račun prihoda i rashoda'!G33 -> 100710 | D12: =' Račun prihoda i rashoda'!H33 -> 108785 | E12: =' Račun prihoda i rashoda'!I33 -> 111230 | F12: =' Račun prihoda i rashoda'!J33 -> 111584
A13: 12 Opći prihodi i primici proračunskih korisnika | B13: 0 | C13: 0 | D13: 0 | E13: 0 | F13: 0
A14: 51 Programi Unije | B14: =SUM(B15) -> 0 | C14: =SUM(C15) -> 0 | D14: =SUM(D15) -> 5800 | E14: =SUM(E15) -> 0 | F14: =SUM(F15) -> 0
A15: 51 Programi Unije | B15: ='POSEBNI DIO'!E113 -> 0 | C15: ='POSEBNI DIO'!F113 -> 0 | D15: ='POSEBNI DIO'!G113 -> 5800 | E15: ='POSEBNI DIO'!H113 -> 0 | F15: ='POSEBNI DIO'!I113 -> 0
A16: 2 Vlastiti prihodi | B16: =SUM(B17) -> 312.96 | C16: =SUM(C17) -> 1615 | D16: =SUM(D17) -> 360 | E16: =SUM(E17) -> 360 | F16: =SUM(F17) -> 360
A17: 22 Vlastiti prihodi proračunskih korisnika | B17: =' Račun prihoda i rashoda'!F21+' Račun prihoda i rashoda'!F39+' Račun prihoda i rashoda'!F26 -> 312.96 | C17: =' Račun prihoda i rashoda'!G21+' Račun prihoda i rashoda'!G39+' Račun prihoda i rashoda'!G26 -> 1615 | D17: =' Račun prihoda i rashoda'!H21+' Račun prihoda i rashoda'!H39+' Račun prihoda i rashoda'!H26 -> 360 | E17: =' Račun prihoda i rashoda'!I21+' Račun prihoda i rashoda'!I39+' Račun prihoda i rashoda'!I26 -> 360 | F17: =' Račun prihoda i rashoda'!J21+' Račun prihoda i rashoda'!J39+' Račun prihoda i rashoda'!J26 -> 360
A18: 50 Pomoći | B18: =SUM(B19) -> 13817.6 | C18: =SUM(C19) -> 9000 | D18: =SUM(D19) -> 17300 | E18: =SUM(E19) -> 10700 | F18: =SUM(F19) -> 10700
A19: 50 Pomoći iz državnog proračuna | B19: =' Račun prihoda i rashoda'!F12 -> 13817.6 | C19: =' Račun prihoda i rashoda'!G12 -> 9000 | D19: =' Račun prihoda i rashoda'!H12 -> 17300 | E19: =' Račun prihoda i rashoda'!I12 -> 10700 | F19: =' Račun prihoda i rashoda'!J12 -> 10700
A23: RASHODI POSLOVANJA PREMA IZVORIMA FINANCIRANJA
A25: Brojčana oznaka i naziv | B25: Izvršenje 2024. | C25: Plan 2025. | D25: Proračun za 2026. | E25: Projekcija proračuna za 2027. | F25: Projekcija proračuna za 2028.
A26: RASHODI UKUPNO | B26: =B27+B30+B32+B34+B36 -> 76376.61 | C26: =C27+C30+C32+C34+C36 -> 123228.2 | D26: =D27+D30+D32+D34+D36 -> 126595 | E26: =E27+E30+E32+E34 -> 122290 | F26: =F27+F30+F32+F34 -> 122644
A27: 1 Opći prihodi i primici | B27: =SUM(B28:B29) -> 64689.51 | C27: =SUM(C28:C29) -> 100710 | D27: =SUM(D28:D29) -> 108785 | E27: =SUM(E28:E29) -> 111230 | F27: =SUM(F28:F29) -> 111584
A28: 11 Opći prihodi i primici | B28: ='POSEBNI DIO'!E8+'POSEBNI DIO'!E89 -> 64689.51 | C28: ='POSEBNI DIO'!F8+'POSEBNI DIO'!F89 -> 100710 | D28: ='POSEBNI DIO'!G8+'POSEBNI DIO'!G89 -> 108785 | E28: ='POSEBNI DIO'!H8+'POSEBNI DIO'!H89 -> 111230 | F28: ='POSEBNI DIO'!I8+'POSEBNI DIO'!I89 -> 111584
A29: 12 Opći prihodi i primici proračunskih korisnika
A30: 51 Programi Unije | B30: =SUM(B31) -> 0 | C30: =SUM(C31) -> 3217.6 | D30: =SUM(D31) -> 5800 | E30: =SUM(E31) -> 0 | F30: =SUM(F31) -> 0
A31: 51 Programi Unije | B31: ='POSEBNI DIO'!E109 -> 0 | C31: ='POSEBNI DIO'!F109 -> 3217.6 | D31: ='POSEBNI DIO'!G113 -> 5800 | E31: ='POSEBNI DIO'!H113 -> 0 | F31: ='POSEBNI DIO'!I113 -> 0
A32: 2 Vlastiti prihodi | B32: =SUM(B33) -> 274.63 | C32: =SUM(C33) -> 4349 | D32: =SUM(D33) -> 360 | E32: =SUM(E33) -> 360 | F32: =SUM(F33) -> 360
A33: 22 Vlastiti prihodi proračunskih korisnika | B33: ='POSEBNI DIO'!E43 -> 274.63 | C33: ='POSEBNI DIO'!F43+'POSEBNI DIO'!F82 -> 4349 | D33: ='POSEBNI DIO'!G43+'POSEBNI DIO'!G82 -> 360 | E33: ='POSEBNI DIO'!H43+'POSEBNI DIO'!H82 -> 360 | F33: ='POSEBNI DIO'!I43+'POSEBNI DIO'!I82 -> 360
A34: 40 Pomoći | B34: =SUM(B35) -> 11412.47 | C34: =SUM(C35) -> 9000 | D34: =SUM(D35) -> 11500 | E34: =SUM(E35) -> 10700 | F34: =SUM(F35) -> 10700
A35: 44 Pomoći iz državnog proračuna | B35: ='POSEBNI DIO'!E62+'POSEBNI DIO'!E96 -> 11412.47 | C35: ='POSEBNI DIO'!F62+'POSEBNI DIO'!F96 -> 9000 | D35: ='POSEBNI DIO'!G62+'POSEBNI DIO'!G96 -> 11500 | E35: ='POSEBNI DIO'!H62+'POSEBNI DIO'!H96 -> 10700 | F35: ='POSEBNI DIO'!I62+'POSEBNI DIO'!I96 -> 10700
A36: 9 Višak | B36: =SUM(B37) -> 0 | C36: =SUM(C37) -> 5951.6 | D36: =SUM(D37) -> 150 | E36: =SUM(E37) -> 0 | F36: =SUM(F37) -> 0
A37: 9 Višak | B37: ='POSEBNI DIO'!E82+'POSEBNI DIO'!E105+'POSEBNI DIO'!E109 -> 0 | C37: ='POSEBNI DIO'!F82+'POSEBNI DIO'!F105+'POSEBNI DIO'!F109 -> 5951.6 | D37: ='POSEBNI DIO'!G82+'POSEBNI DIO'!G105+'POSEBNI DIO'!G109 -> 150 | E37: ='POSEBNI DIO'!H82+'POSEBNI DIO'!H105+'POSEBNI DIO'!H109 -> 0 | F37: ='POSEBNI DIO'!I82+'POSEBNI DIO'!I105+'POSEBNI DIO'!I109 -> 0

Sheet Rashodi prema funkcijskoj kl
A1: FINANCIJSKI PLAN NARODNE KNJIŽNICE I ČITAONICE KLIS ZA 2026. I PROJEKCIJA ZA 2027. I 2028. GODINU
A3: I. OPĆI DIO
A5: A. RAČUN PRIHODA I RASHODA
A7: RASHODI PREMA FUNKCIJSKOJ KLASIFIKACIJI
A9: Brojčana oznaka i naziv | B9: Izvršenje 2024. | C9: Plan 2025. | D9: Proračun za 2026. | E9: Projekcija proračuna za 2027. | F9: Projekcija proračuna za 2028.
A10: UKUPNI RASHODI | B10: =B11 -> 76376.61 | C10: =C11 -> 117276.6 | D10: =D11 -> 126595 | E10: =E11 -> 122290 | F10: =F11 -> 122644
A11: 08 Rekreacija, koltura i religija | B11: =B12 -> 76376.61 | C11: =C12 -> 117276.6 | D11: =D12 -> 126595 | E11: =E12 -> 122290 | F11: =F12 -> 122644
A12: 0860 Rashodi za rekreaciju, kulturu i religiju koji nisu drugdje svrstane | B12: =' Račun prihoda i rashoda'!F51 -> 76376.61 | C12: =' Račun prihoda i rashoda'!G51 -> 117276.6 | D12: =' Račun prihoda i rashoda'!H51 -> 126595 | E12: =' Račun prihoda i rashoda'!I51 -> 122290 | F12: =' Račun prihoda i rashoda'!J51 -> 122644

Sheet Račun financiranja
A1: FINANCIJSKI PLAN PRORAČUNSKOG KORISNIKA JEDINICE LOKALNE I PODRUČNE (REGIONALNE) SAMOUPRAVE ZA 2024. I PROJEKCIJA ZA 2025. I 2026. GODINU
A3: I. OPĆI DIO
A5: B. RAČUN FINANCIRANJA PREMA EKONOMSKOJ KLASIFIKACIJI
A7: Razred | B7: Skupina | C7: Naziv | D7: Izvršenje 2022. | E7: Plan 2023. | F7: Plan za 2024. | G7: Projekcija za 2025. | H7: Projekcija za 2026.
C8: PRIMICI UKUPNO
A9: 8 | C9: Primici od financijske imovine i zaduživanja
B10: 84 | C10: Primici od zaduživanja
C12: IZDACI UKUPNO
A13: 5 | C13: Izdaci za financijsku imovinu i otplate zajmova
B14: 54 | C14: Izdaci za otplatu glavnice primljenih kredita i zajmova

Sheet Račun financiranja po izvorima
A1: FINANCIJSKI PLAN PRORAČUNSKOG KORISNIKA JEDINICE LOKALNE I PODRUČNE (REGIONALNE) SAMOUPRAVE ZA 2024. I PROJEKCIJA ZA 2025. I 2026. GODINU
A3: I. OPĆI DIO
A5: B. RAČUN FINANCIRANJA PREMA IZVORIMA FINANCIRANJA
A7: Brojčana oznaka i naziv | B7: Izvršenje 2022. | C7: Plan 2023. | D7: Plan za 2024. | E7: Projekcija za 2025. | F7: Projekcija za 2026.
A8: PRIMICI UKUPNO
A9: 8 Namjenski primici od zaduživanja
A10: 81 Namjenski primici od zaduživanja
A12: IZDACI UKUPNO
A13: 1 Opći prihodi i primici
A14: 11 Opći prihodi i primici
A15: 3 Vlastiti prihodi
A16: 31 Vlastiti prihodi

Sheet POSEBNI DIO
A1: FINANCIJSKI PLAN NARODNE KNJIŽNICE I ČITAONICE KLIS ZA 2026. I PROJEKCIJA ZA 2027. I 2028. GODINU
A3: II. POSEBNI DIO
A5: Šifra | D5: Naziv | E5: Izvršenje 2024. | F5: Plan 2025. | G5: Proračun za 2026. | H5: Projekcija proračuna za 2027. | I5: Projekcija proračuna za 2028.
A6: PROGRAM 1003 | D6: KULTURA | E6: =E7+E88+E108 -> 76376.61 | F6: =F7+F88+F108 -> 117276.6 | G6: =G7+G88+G108 -> 126595 | H6: =H7+H88+H108 -> 122290 | I6: =I7+I88+I108 -> 122644
A7: Aktivnost A100306 | D7: Financiranje Narodne knjižnice i čitaonice u Klisu | E7: =E8+E43+E62+E82 -> 60797.17 | F7: =F8+F43+F62+F82+F38 -> 96959 | G7: =G8+G43+G62+G82+G38 -> 105545 | H7: =H8+H43+H62+H82+H38 -> 104690 | I7: =I8+I43+I62+I82+I38 -> 105044
A8: 1.1. | D8: Prihodi od poreza, imovine, pristojbi i kazni | E8: =E9+E13+E36 -> 59717.44 | F8: =F9+F13+F36 -> 92610 | G8: =G9+G13+G36 -> 103185 | H8: =H9+H13+H36 -> 103130 | I8: =I9+I13+I36 -> 103484
A9: 31 | D9: Rashodi za zaposlene | E9: =SUM(E10:E12) -> 48347.74 | F9: =SUM(F10:F12) -> 64760 | G9: =SUM(G10:G12) -> 74935 | H9: =SUM(H10:H12) -> 75280 | I9: =SUM(I10:I12) -> 75634
A10: 3111 | D10: Plaće za redovan rad | E10: 36098.72 | F10: 49560 | G10: 59000 | H10: =G10*1.005 -> 59295 | I10: 59600
A11: 3121 | D11: Ostali rashodi za zaposlene | E11: 6292.72 | F11: 6700 | G11: =1200+1200+1200+1200+700+700 -> 6200 | H11: 6200 | I11: 6200
A12: 3132 | D12: Doprinosi za obvezno zdravstveno osiguranje | E12: 5956.3 | F12: 8500 | G12: =G10*0.165 -> 9735 | H12: 9785 | I12: =I10*0.165 -> 9834
A13: 32 | D13: Materijalni rashodi | E13: =SUM(E14:E35) -> 11369.7 | F13: =SUM(F14:F35) -> 27850 | G13: =SUM(G14:G35) -> 28250 | H13: =SUM(H14:H35) -> 27850 | I13: =SUM(I14:I35) -> 27850
A14: 3211 | D14: Službena putovanja | E14: 0 | F14: 1500 | G14: 1500 | H14: 1500 | I14: 1500
A15: 3212 | D15: Naknada za prijevoz, za rad na terenu i odvojeni život | E15: 2520 | F15: 5000 | G15: 2900 | H15: 5000 | I15: 5000
A16: 3213 | D16: Stručno usavršavanje zaposlenika | E16: 0 | F16: 1500 | G16: 1000 | H16: 1500 | I16: 1500
A17: 3221 | D17: Uredski materijal i ostali materijalni rashodi | E17: 266.63 | F17: 1500 | G17: 1500 | H17: 1500 | I17: 1500
A18: 3222 | D18: Materijalni rashodi | E18: 130.81 | F18: 700 | G18: 700 | H18: 700 | I18: 700
A19: 3223 | D19: Energija | F19: 1000 | G19: 1000 | H19: 1000 | I19: 1000
A20: 3224 | D20: Materijal i djelovi za tekuće održavanje | E20: 149.7 | F20: 400 | G20: 400 | H20: 400 | I20: 400
A21: 3225 | D21: Sitni inventar | E21: 0 | F21: 500 | G21: 500 | H21: 500 | I21: 500
A22: 3231 | D22: Usluge telefona, pošte i prijevoza | E22: 333.12 | F22: 700 | G22: 700 | H22: 700 | I22: 700
A23: 3232 | D23: Usluge tekućeg i investicijskog održavanja | E23: 290.17 | F23: 600 | G23: =600+500+1500-100 -> 2500 | H23: 600 | I23: 600
A24: 3233 | D24: Usluge promidžbe i informiranja | E24: 541.25 | F24: 600 | G24: 600 | H24: 600 | I24: 600
A25: 3234 | D25: Komunalne usluge | F25: 600 | G25: 600 | H25: 600 | I25: 600
A26: 3235 | D26: Zakupnine i najamnine | E26: 35
A27: 3236 | D27: Zdravstvene i veterinarske usluge | E27: 0
A28: 3237 | D28: Intelektualne i osobne usluge | E28: 5682.21 | F28: 9000 | G28: 9000 | H28: 9000 | I28: 9000
A29: 3238 | D29: Računalne usluge | E29: 666.42 | F29: 2500 | G29: 2500 | H29: 2500 | I29: 2500
A30: 3239 | D30: Ostale usluge | E30: 656.06 | F30: 1000 | G30: 2100 | H30: 1000 | I30: 1000
A31: 3241 | D31: Naknade troškova osobama izvan radnog odnosa
A32: 3293 | D32: Reprezentacija | E32: 98.33 | F32: 500 | G32: 500 | H32: 500 | I32: 500
A33: 3294 | D33: Članarine | F33: 50 | G33: 50 | H33: 50 | I33: 50
A34: 3295 | D34: Pristojbe i naknade | F34: 100 | G34: 100 | H34: 100 | I34: 100
A35: 3299 | D35: Ostali nespomenuti rashodi poslovanja | F35: 100 | G35: 100 | H35: 100 | I35: 100
A36: 34 | D36: Financijski rashodi | E36: =SUM(E37:E37) -> 0 | F36: =SUM(F37:F37) -> 0 | G36: =SUM(G37:G37) -> 0 | H36: =SUM(H37:H37) -> 0 | I36: =SUM(I37:I37) -> 0
A37: 3431 | D37: Bankarske usluge i usluge platnog prometa | F37: 0 | G37: 0 | H37: 0 | I37: 0
A38: 1.2. | D38: Prihodi od poreza, imovine, pristojbi i kazni proračunskih korisnika | E38: =E39 -> 0 | F38: =F39 -> 0 | G38: =G39 -> 0 | H38: =H39 -> 0 | I38: =I39 -> 0
A39: 32 | D39: Materijalni rashodi | E39: =SUM(E40:E42) -> 0 | F39: =SUM(F40:F42) -> 0 | G39: =SUM(G40:G42) -> 0 | H39: =SUM(H40:H42) -> 0 | I39: =SUM(I40:I42) -> 0
A40: 3238 | D40: Računalne usluge
A41: 3239 | D41: Ostale usluge
A42: 3292 | D42: Premije osiguranja | F42: 0 | G42: 0 | H42: 0 | I42: 0
...
