Workbook

Sheet SAŽETAK
A1: FINANCIJSKI PLAN NARODNE KNJIŽNICE I ČITAONICE KLIS ZA 2026. I PROJEKCIJA ZA 2027. I 2028. GODINU
A3: I. OPĆI DIO
A5: A) SAŽETAK RAČUNA PRIHODA I RASHODA
J6: EUR
F7: Izvršenje 2024. | G7: Plan 2025. | H7: Proračun za 2026. | I7: Projekcija proračuna za 2027. | J7: Projekcija proračuna za 2028.
A8: PRIHODI UKUPNO | F8: =F9+F10 -> 78820.1 | G8: =G9+G10 -> 111325 | H8: =H9+H10 -> 126445 | I8: =I9+I10 -> 122290 | J8: =J9+J10 -> 122644
A9: 6 PRIHODI POSLOVANJA | F9: =' Račun prihoda i rashoda'!F11 -> 78820.1 | G9: =' Račun prihoda i rashoda'!G11 -> 111325 | H9: =' Račun prihoda i rashoda'!H11 -> 126445 | I9: =' Račun prihoda i rashoda'!I11 -> 122290 | J9: =' Račun prihoda i rashoda'!J11 -> 122644
A10: 7 PRIHODI OD PRODAJE NEFINANCIJSKE IMOVINE | F10: =' Račun prihoda i rashoda'!F44 -> 0 | G10: =' Račun prihoda i rashoda'!G44 -> 0 | H10: =' Račun prihoda i rashoda'!H44 -> 0 | I10: =' Račun prihoda i rashoda'!I44 -> 0 | J10: =' Račun prihoda i rashoda'!J44 -> 0
A11: RASHODI UKUPNO | F11: =F12+F13 -> 76376.61 | G11: =G12+G13 -> 117276.6 | H11: =H12+H13 -> 126595 | I11: =I12+I13 -> 122290 | J11: =J12+J13 -> 122644
A12: 3 RASHODI POSLOVANJA | F12: =' Račun prihoda i rashoda'!F52 -> 60797.17 | G12: =' Račun prihoda i rashoda'!G52 -> 100176.6 | H12: =' Račun prihoda i rashoda'!H52 -> 111495 | I12: =' Račun prihoda i rashoda'!I52 -> 104690 | J12: =' Račun prihoda i rashoda'!J52 -> 105044
A13: 4 RASHODI ZA NABAVU NEFINANCIJSKE IMOVINE | F13: =' Račun prihoda i rashoda'!F95 -> 15579.44 | G13: =' Račun prihoda i rashoda'!G95 -> 17100 | H13: =' Račun prihoda i rashoda'!H95 -> 15100 | I13: =' Račun prihoda i rashoda'!I95 -> 17600 | J13: =' Račun prihoda i rashoda'!J95 -> 17600
A14: RAZLIKA - VIŠAK / MANJAK | F14: =F8-F11 -> 2443.49 | G14: =G8-G11 -> -5951.6 | H14: =H8-H11 -> -150 | I14: =I8-I11 -> 0 | J14: =J8-J11 -> 0
A16: B) SAŽETAK RAČUNA FINANCIRANJA
F18: Izvršenje 2024. | G18: Plan 2025. | H18: Proračun za 2026. | I18: Projekcija proračuna za 2027. | J18: Projekcija proračuna za 2028.
A19: 8 PRIMICI OD FINANCIJSKE IMOVINE I ZADUŽIVANJA
A20: 5 IZDACI ZA FINANCIJSKU IMOVINU I OTPLATE ZAJMOVA
A21: NETO FINANCIRANJE | F21: =F19-F20 -> 0 | G21: =G19-G20 -> 0 | H21: =H19-H20 -> 0 | I21: =I19-I20 -> 0 | J21: =J19-J20 -> 0
A22: VIŠAK / MANJAK + NETO FINANCIRANJE | F22: =F14+F21 -> 2443.49 | G22: =G14+G21 -> -5951.6 | H22: =H14+H21 -> -150 | I22: =I14+I21 -> 0 | J22: =J14+J21 -> 0
A24: C) PRENESENI VIŠAK ILI PRENESENI MANJAK
F26: Izvršenje 2024. | G26: Plan 2025. | H26: Proračun za 2026. | I26: Projekcija proračuna za 2027. | J26: Projekcija proračuna za 2028.
A27: PRIJENOS VIŠKA / MANJKA IZ PRETHODNE(IH) GODINE | F27: 1155.17 | G27: =F28 -> 3598.66 | H27: 150 | I27: =H28 -> 0 | J27: =I28 -> 0
A28: PRIJENOS VIŠKA / MANJKA U SLJEDEĆE RAZDOBLJE | F28: =F22+F27 -> 3598.66 | G28: =G22+G27 -> -2352.94 | H28: =H22+H27 -> 0 | I28: =I22+I27 -> 0 | J28: =J22+J27 -> 0
A29: VIŠAK / MANJAK + NETO FINANCIRANJE + PRIJENOS VIŠKA / MANJKA IZ PRETHODNE(IH) GODINE - PRIJENOS VIŠKA / MANJKA U SLJEDEĆE RAZDOBLJE | F29: =F14+F21+F27-F28 -> 0 | G29: =G14+G21+G27-G28 -> 0 | H29: =H14+H21+H27-H28 -> 0 | I29: =I14+I21+I27-I28 -> 0 | J29: =J14+J21+J27-J28 -> 0
A31: D) VIŠEGODIŠNJI PLAN URAVNOTEŽENJA
F33: Izvršenje 2024. | G33: Plan 2025. | H33: Proračun za 2026. | I33: Projekcija proračuna za 2027. | J33: Projekcija proračuna za 2028.
A34: PRIJENOS VIŠKA / MANJKA IZ PRETHODNE(IH) GODINE | F34: =F27 -> 1155.17 | G34: =F37 -> 3598.66 | H34: 0 | I34: =H37 -> 0 | J34: =I37 -> 0
A35: VIŠAK / MANJAK IZ PRETHODNE(IH) GODINE KOJI ĆE SE RASPOREDITI / POKRITI | G35: 0 | H35: 0 | I35: 0 | J35: 0
A36: VIŠAK / MANJAK TEKUĆE GODINE | F36: =F22 -> 2443.49 | G36: =G22 -> -5951.6 | H36: 0 | I36: 0 | J36: 0
A37: PRIJENOS VIŠKA / MANJKA U SLJEDEĆE RAZDOBLJE | F37: =F34-F35+F36 -> 3598.66 | G37: =G34-G35+G36 -> -2352.94 | H37: 0 | I37: =I34-I35+I36 -> 0 | J37: =J34-J35+J36 -> 0

Sheet  Račun prihoda i rashoda
A1: FINANCIJSKI PLAN NARODNE KNJIŽNICE I ČITAONICE KLIS ZA 2026. I PROJEKCIJA ZA 2027. I 2028. GODINU
A3: I. OPĆI DIO
A5: A. RAČUN PRIHODA I RASHODA
A7: PRIHODI POSLOVANJA PREMA EKONOMSKOJ KLASIFIKACIJI
A9: Razred | B9: Skupina | E9: Naziv prihoda | F9: Izvršenje 2024. | G9: Plan 2025. | H9: Proračun za 2026. | I9: Projekcija proračuna za 2027. | J9: Projekcija proračuna za 2028.
E10: PRIHODI UKUPNO | F10: =F11 -> 78820.1 | G10: =G11 -> 111325 | H10: =H11 -> 126445 | I10: =I11 -> 122290 | J10: =J11 -> 122644
A11: 6 | E11: Prihodi poslovanja | F11: =F12+F18+F21+F26+F33+F37 -> 78820.1 | G11: =G12+G18+G21+G26+G33+G37 -> 111325 | H11: =H12+H18+H21+H26+H33+H37 -> 126445 | I11: =I12+I18+I21+I26+I33+I37 -> 122290 | J11: =J12+J18+J21+J26+J33+J37 -> 122644
B12: 63 | E12: Pomoći iz inozemstva i od subjekata unutar općeg proračuna | F12: =F15+F13 -> 13817.6 | G12: =G15+G13 -> 9000 | H12: =H15+H13 -> 17300 | I12: =I15+I13 -> 10700 | J12: =J15+J13 -> 10700
C13: 632 | E13: Pomoći od međunarodnih organizacija te institucija i tijela EU | F13: =F14 -> 0 | G13: =G14 -> 0 | H13: =H14 -> 5800 | I13: =I14 -> 0 | J13: =J14 -> 0
D14: 6323 | E14: Tekuće pomoći od institucija i tijela EU | F14: ='POSEBNI DIO'!E113 -> 0 | G14: ='POSEBNI DIO'!F113 -> 0 | H14: ='POSEBNI DIO'!G113 -> 5800 | I14: ='POSEBNI DIO'!H113 -> 0 | J14: ='POSEBNI DIO'!I113 -> 0
C15: 636 | E15: Pomoći proračunskim korisnicima iz proračuna koji im nije nadležan | F15: =SUM(F16:F17) -> 13817.6 | G15: =SUM(G16:G17) -> 9000 | H15: =SUM(H16:H17) -> 11500 | I15: =SUM(I16:I17) -> 10700 | J15: =SUM(J16:J17) -> 10700
D16: 6361 | E16: Tekuće pomoći iz nenadležnog proračuna - PK | F16: 3210.23 | G16: ='POSEBNI DIO'!F61 -> 0 | H16: ='POSEBNI DIO'!G62 -> 2000 | I16: ='POSEBNI DIO'!H62 -> 1200 | J16: ='POSEBNI DIO'!I62 -> 1200
D17: 6362 | E17: Kapitalne pomoći iz nenadležnog proračuna - PK | F17: 10607.37 | G17: ='POSEBNI DIO'!F96 -> 9000 | H17: ='POSEBNI DIO'!G96 -> 9500 | I17: ='POSEBNI DIO'!H96 -> 9500 | J17: ='POSEBNI DIO'!I96 -> 9500
B18: 64 | E18: Prihodi od imovine | F18: =F19 -> 0.03 | G18: =G19 -> 0 | H18: =H19 -> 0 | I18: =I19 -> 0 | J18: =J19 -> 0
C19: 641 | E19: Prihodi od financijske imovine | F19: =F20 -> 0.03 | G19: =G20 -> 0 | H19: =H20 -> 0 | I19: =I20 -> 0 | J19: =J20 -> 0
D20: 6413 | E20: Kamate na sredstva i depozite po viđenju | F20: 0.03 | G20: 0
B21: 65 | E21: Prihodi od upravnih i administrativnih pristojbi, pristojbi po posebnim propisima i naknada | F21: =F24+F22 -> 196.5 | G21: =G24+G22 -> 807.5 | H21: =H24+H22 -> 180 | I21: =I24+I22 -> 180 | J21: =J24+J22 -> 180
C22: 651 | E22: Upravne i administrativne pristojbe | F22: =F23 -> 0 | G22: =G23 -> 0 | H22: =H23 -> 0 | I22: =I23 -> 0 | J22: =J23 -> 0
D23: 6514 | E23: Ostale pristojbe i naknade | F23: 0 | G23: ='POSEBNI DIO'!F36*0.5 -> 0 | H23: ='POSEBNI DIO'!G36*0.5 -> 0 | I23: ='POSEBNI DIO'!H36*0.5 -> 0 | J23: ='POSEBNI DIO'!I36*0.5 -> 0
C24: 652 | E24: Prihodi po posebnim propisima | F24: =F25 -> 196.5 | G24: =G25 -> 807.5 | H24: =H25 -> 180 | I24: =I25 -> 180 | J24: =J25 -> 180
D25: 6526 | E25: Ostali nespomenuti prihodi | F25: 196.5 | G25: ='POSEBNI DIO'!F43*0.5 -> 807.5 | H25: ='POSEBNI DIO'!G43*0.5 -> 180 | I25: ='POSEBNI DIO'!H43*0.5 -> 180 | J25: ='POSEBNI DIO'!I43*0.5 -> 180
B26: 66 | E26: Prihodi od prodaje proizvoda i robe te pruženih usluga i prihodi od donacija | F26: =F27+F30 -> 0 | G26: =G27 -> 0 | H26: =H27 -> 0 | I26: =I27 -> 0 | J26: =J27 -> 0
C27: 661 | E27: Prihodi od prodaje proizvoda i robe te pruženih usluga | F27: =SUM(F28:F29) -> 0 | G27: =SUM(G28:G29) -> 0 | H27: =SUM(H28:H29) -> 0 | I27: =SUM(I28:I29) -> 0 | J27: =SUM(J28:J29) -> 0
D28: 6614 | E28: Prihodi od prodaje proizvoda i robe
D29: 6615 | E29: Prihodi od pružanja usluga | F29: 0
C30: 663 | E30: Donacije od pravnih i fizičkih osoba izvan općeg proračuna i povrat donacija po protestiranim jamstvima | F30: =SUM(F31:F32) -> 0 | G30: =SUM(G31:G32) -> 0 | H30: =SUM(H31:H32) -> 0 | I30: =SUM(I31:I32) -> 0 | J30: =SUM(J31:J32) -> 0
D31: 6631 | E31: Tekuće donacije | F31: 0
D32: 6632 | E32: Kapitalne donacije | F32: 0
B33: 67 | E33: Prihodi iz nadležnog proračuna i od HZZO-a temeljem ugovornih obveza | F33: =F34 -> 64689.51 | G33: =G34 -> 100710 | H33: =H34 -> 108785 | I33: =I34 -> 111230 | J33: =J34 -> 111584
C34: 671 | E34: Prihodi iz nadležnog proračuna za financiranje redovne djelatnosti proračunskih korisnika | F34: =SUM(F35:F36) -> 64689.51 | G34: =SUM(G35:G36) -> 100710 | H34: =SUM(H35:H36) -> 108785 | I34: =SUM(I35:I36) -> 111230 | J34: =SUM(J35:J36) -> 111584
D35: 6711 | E35: Prihodi za financiranje rashoda poslovanja | F35: 59717.44 | G35: ='POSEBNI DIO'!F8 -> 92610 | H35: ='POSEBNI DIO'!G8 -> 103185 | I35: ='POSEBNI DIO'!H8 -> 103130 | J35: ='POSEBNI DIO'!I8 -> 103484
D36: 6712 | E36: Prihodi za financiranje rashoda za nabavu nefinancijske imovine | F36: 4972.07 | G36: ='POSEBNI DIO'!F89 -> 8100 | H36: ='POSEBNI DIO'!G89 -> 5600 | I36: ='POSEBNI DIO'!H89 -> 8100 | J36: ='POSEBNI DIO'!I89 -> 8100
B37: 68 | E37: Kazne, upravne mjere i ostali prihodi | F37: =F38+F40 -> 116.46 | G37: =G38+G40 -> 807.5 | H37: =H38+H40 -> 180 | I37: =I38+I40 -> 180 | J37: =J38+J40 -> 180
C38: 681 | E38: Kazne i upravne mjere | F38: =SUM(F39) -> 116.46 | G38: =SUM(G39) -> 807.5 | H38: =SUM(H39) -> 180 | I38: =SUM(I39) -> 180 | J38: =SUM(J39) -> 180
D39: 6819 | E39: Ostale kazne | F39: 116.46 | G39: ='POSEBNI DIO'!F43*0.5 -> 807.5 | H39: ='POSEBNI DIO'!G43*0.5 -> 180 | I39: ='POSEBNI DIO'!H43*0.5 -> 180 | J39: ='POSEBNI DIO'!I43*0.5 -> 180
C40: 683 | D40: 683 | E40: Ostali prihodi | F40: =F41+F42 -> 0 | G40: =G41+G42 -> 0 | H40: =H41+H42 -> 0 | I40: =I41+I42 -> 0 | J40: =J41+J42 -> 0
D41: 6831 | E41: Prihodi za financiranje rashoda za nabavu nefinancijske imovine | F41: 0
D42: 683 | E42: Ostali prihodi | F42: 0
D43: …
A44: 7 | E44: Prihodi od prodaje nefinancijske imovine
D45: 72 | E45: Prihodi od prodaje proizvedene dugotrajne imovine
A48: RASHODI POSLOVANJA PREMA EKONOMSKOJ KLASIFIKACIJI
A50: Razred | D50: Skupina | E50: Naziv rashoda | F50: Izvršenje 2024. | G50: Plan 2025. | H50: Proračun za 2026. | I50: Projekcija proračuna za 2027. | J50: Projekcija proračuna za 2028.
E51: UKUPNI RASHODI | F51: =F52+F95 -> 76376.61 | G51: =G52+G95 -> 117276.6 | H51: =H52+H95 -> 126595 | I51: =I52+I95 -> 122290 | J51: =J52+J95 -> 122644
A52: 3 | E52: Rashodi poslovanja | F52: =F53+F60+F89 -> 60797.17 | G52: =G53+G60+G89 -> 100176.6 | H52: =H53+H60+H89 -> 111495 | I52: =I53+I60+I89 -> 104690 | J52: =J53+J60+J89 -> 105044
B53: 31 | E53: Rashodi za zaposlene | F53: =F54+F56+F58 -> 48347.74 | G53: =G54+G56+G58 -> 64760 | H53: =H54+H56+H58 -> 74935 | I53: =I54+I56+I58 -> 75280 | J53: =J54+J56+J58 -> 75634
C54: 311 | E54: Plaće (Bruto) | F54: =SUM(F55) -> 36098.72 | G54: =SUM(G55) -> 49560 | H54: =SUM(H55) -> 59000 | I54: =SUM(I55) -> 59295 | J54: =SUM(J55) -> 59600
D55: 3111 | E55: Plaće za redovan rad | F55: ='POSEBNI DIO'!E10 -> 36098.72 | G55: ='POSEBNI DIO'!F10 -> 49560 | H55: ='POSEBNI DIO'!G10 -> 59000 | I55: ='POSEBNI DIO'!H10 -> 59295 | J55: ='POSEBNI DIO'!I10 -> 59600
C56: 312 | F56: =SUM(F57) -> 6292.72 | G56: =SUM(G57) -> 6700 | H56: =SUM(H57) -> 6200 | I56: =SUM(I57) -> 6200 | J56: =SUM(J57) -> 6200
D57: 3121 | E57: Ostali rashodi za zaposlene | F57: ='POSEBNI DIO'!E11 -> 6292.72 | G57: ='POSEBNI DIO'!F11 -> 6700 | H57: ='POSEBNI DIO'!G11 -> 6200 | I57: ='POSEBNI DIO'!H11 -> 6200 | J57: ='POSEBNI DIO'!I11 -> 6200
C58: 313 | F58: =SUM(F59) -> 5956.3 | G58: =SUM(G59) -> 8500 | H58: =SUM(H59) -> 9735 | I58: =SUM(I59) -> 9785 | J58: =SUM(J59) -> 9834
D59: 3132 | E59: Doprinosi za zdravstveno osiguranje | F59: ='POSEBNI DIO'!E12 -> 5956.3 | G59: ='POSEBNI DIO'!F12 -> 8500 | H59: ='POSEBNI DIO'!G12 -> 9735 | I59: ='POSEBNI DIO'!H12 -> 9785 | J59: ='POSEBNI DIO'!I12 -> 9834
B60: 32 | E60: Materijalni rashodi | F60: =F61+F66+F72+F83+F81 -> 12174.8 | G60: =G61+G66+G72+G83+G81 -> 35066.6 | H60: =H61+H66+H72+H83+H81 -> 36560 | I60: =I61+I66+I72+I83+I81 -> 29410 | J60: =J61+J66+J72+J83+J81 -> 29410
C61: 321 | E61: Naknade troškova zaposlenima | F61: =SUM(F62:F65) -> 2520 | G61: =SUM(G62:G65) -> 11217.6 | H61: =SUM(H62:H65) -> 11350 | I61: =SUM(I62:I65) -> 8000 | J61: =SUM(J62:J65) -> 8000
D62: 3211 | E62: Službena putovanja | F62: ='POSEBNI DIO'!E14+'POSEBNI DIO'!E64+'POSEBNI DIO'!E111+'POSEBNI DIO'!E115 -> 0 | G62: ='POSEBNI DIO'!F14+'POSEBNI DIO'!F64+'POSEBNI DIO'!F111+'POSEBNI DIO'!F115 -> 4000 | H62: ='POSEBNI DIO'!G14+'POSEBNI DIO'!G64+'POSEBNI DIO'!G111+'POSEBNI DIO'!G115 -> 6500 | I62: ='POSEBNI DIO'!H14+'POSEBNI DIO'!H64+'POSEBNI DIO'!H111+'POSEBNI DIO'!H115 -> 1500 | J62: ='POSEBNI DIO'!I14+'POSEBNI DIO'!I64+'POSEBNI DIO'!I111+'POSEBNI DIO'!I115 -> 1500
D63: 3212 | E63: Naknade za prijevoz, za rad na terenu i odvojeni život | F63: ='POSEBNI DIO'!E15 -> 2520 | G63: ='POSEBNI DIO'!F15 -> 5000 | H63: ='POSEBNI DIO'!G15 -> 2900 | I63: ='POSEBNI DIO'!H15 -> 5000 | J63: ='POSEBNI DIO'!I15 -> 5000
D64: 3213 | E64: Stručno usavršavanje zaposlenika | F64: ='POSEBNI DIO'!E116+'POSEBNI DIO'!E112+'POSEBNI DIO'!E16 -> 0 | G64: ='POSEBNI DIO'!F116+'POSEBNI DIO'!F112+'POSEBNI DIO'!F16 -> 2217.6 | H64: ='POSEBNI DIO'!G116+'POSEBNI DIO'!G112+'POSEBNI DIO'!G16 -> 1950 | I64: ='POSEBNI DIO'!H116+'POSEBNI DIO'!H112+'POSEBNI DIO'!H16 -> 1500 | J64: ='POSEBNI DIO'!I116+'POSEBNI DIO'!I112+'POSEBNI DIO'!I16 -> 1500
D65: 3214 | E65: Ostale naknade troškova zaposlenima | F65: ='POSEBNI DIO'!E66 -> 0 | G65: ='POSEBNI DIO'!F66 -> 0 | H65: ='POSEBNI DIO'!G66 -> 0 | I65: ='POSEBNI DIO'!H66 -> 0 | J65: ='POSEBNI DIO'!I66 -> 0
C66: 322 | F66: =SUM(F67:F71) -> 1008.1 | G66: =SUM(G67:G71) -> 4180 | H66: =SUM(H67:H71) -> 4180 | I66: =SUM(I67:I71) -> 4480 | J66: =SUM(J67:J71) -> 4480
D67: 3221 | E67: Uredski materijal i ostali materijalni rashodi | F67: ='POSEBNI DIO'!E17+'POSEBNI DIO'!E47+'POSEBNI DIO'!E67+'POSEBNI DIO'!E84 -> 727.59 | G67: ='POSEBNI DIO'!F17+'POSEBNI DIO'!F47+'POSEBNI DIO'!F67+'POSEBNI DIO'!F84 -> 1580 | H67: ='POSEBNI DIO'!G17+'POSEBNI DIO'!G47+'POSEBNI DIO'!G67+'POSEBNI DIO'!G84 -> 1580 | I67: ='POSEBNI DIO'!H17+'POSEBNI DIO'!H47+'POSEBNI DIO'!H67+'POSEBNI DIO'!H84 -> 1880 | J67: ='POSEBNI DIO'!I17+'POSEBNI DIO'!I47+'POSEBNI DIO'!I67+'POSEBNI DIO'!I84 -> 1880
D68: 3222 | E68: Materijal i sirovine | F68: ='POSEBNI DIO'!E18 -> 130.81 | G68: ='POSEBNI DIO'!F18 -> 700 | H68: ='POSEBNI DIO'!G18 -> 700 | I68: ='POSEBNI DIO'!H18 -> 700 | J68: ='POSEBNI DIO'!I18 -> 700
D69: 3223 | E69: Energija | F69: ='POSEBNI DIO'!E19+'POSEBNI DIO'!E68 -> 0 | G69: ='POSEBNI DIO'!F19+'POSEBNI DIO'!F68 -> 1000 | H69: ='POSEBNI DIO'!G19+'POSEBNI DIO'!G68 -> 1000 | I69: ='POSEBNI DIO'!H19+'POSEBNI DIO'!H68 -> 1000 | J69: ='POSEBNI DIO'!I19+'POSEBNI DIO'!I68 -> 1000
D70: 3224 | E70: Materijal i dijelovi za tekuće i investicijsko održavanje | F70: ='POSEBNI DIO'!E20 -> 149.7 | G70: ='POSEBNI DIO'!F20 -> 400 | H70: ='POSEBNI DIO'!G20 -> 400 | I70: ='POSEBNI DIO'!H20 -> 400 | J70: ='POSEBNI DIO'!I20 -> 400
D71: 3225 | E71: Sitni inventar | F71: ='POSEBNI DIO'!E21+'POSEBNI DIO'!E69 -> 0 | G71: ='POSEBNI DIO'!F21+'POSEBNI DIO'!F69 -> 500 | H71: ='POSEBNI DIO'!G21+'POSEBNI DIO'!G69 -> 500 | I71: ='POSEBNI DIO'!H21+'POSEBNI DIO'!H69 -> 500 | J71: ='POSEBNI DIO'!I21+'POSEBNI DIO'!I69 -> 500
C72: 323 | F72: =SUM(F73:F80) -> 8464.23 | G72: =SUM(G73:G80) -> 17349 | H72: =SUM(H73:H80) -> 19030 | I72: =SUM(I73:I80) -> 15730 | J72: =SUM(J73:J80) -> 15730
D73: 3231 | E73: Usluge, telefona, pošte i prijevoza | F73: ='POSEBNI DIO'!E22+'POSEBNI DIO'!E50+'POSEBNI DIO'!E70+'POSEBNI DIO'!E85 -> 333.12 | G73: ='POSEBNI DIO'!F22+'POSEBNI DIO'!F50+'POSEBNI DIO'!F70+'POSEBNI DIO'!F85 -> 715 | H73: ='POSEBNI DIO'!G22+'POSEBNI DIO'!G50+'POSEBNI DIO'!G70+'POSEBNI DIO'!G85 -> 730 | I73: ='POSEBNI DIO'!H22+'POSEBNI DIO'!H50+'POSEBNI DIO'!H70+'POSEBNI DIO'!H85 -> 730 | J73: ='POSEBNI DIO'!I22+'POSEBNI DIO'!I50+'POSEBNI DIO'!I70+'POSEBNI DIO'!I85 -> 730
D74: 3232 | E74: Usluge tekućeg i investicijskog održavanja | F74: ='POSEBNI DIO'!E23+'POSEBNI DIO'!E51+'POSEBNI DIO'!E71 -> 290.17 | G74: ='POSEBNI DIO'!F23+'POSEBNI DIO'!F51+'POSEBNI DIO'!F71 -> 600 | H74: ='POSEBNI DIO'!G23+'POSEBNI DIO'!G51+'POSEBNI DIO'!G71 -> 2500 | I74: ='POSEBNI DIO'!H23+'POSEBNI DIO'!H51+'POSEBNI DIO'!H71 -> 600 | J74: ='POSEBNI DIO'!I23+'POSEBNI DIO'!I51+'POSEBNI DIO'!I71 -> 600
D75: 3233 | E75: Usluge promidžbe i informiranja | F75: ='POSEBNI DIO'!E24+'POSEBNI DIO'!E72 -> 541.25 | G75: ='POSEBNI DIO'!F24+'POSEBNI DIO'!F72 -> 600 | H75: ='POSEBNI DIO'!G24+'POSEBNI DIO'!G72 -> 600 | I75: ='POSEBNI DIO'!H24+'POSEBNI DIO'!H72 -> 600 | J75: ='POSEBNI DIO'!I24+'POSEBNI DIO'!I72 -> 600
D76: 3234 | E76: Komunalne usluge | F76: ='POSEBNI DIO'!E25+'POSEBNI DIO'!E73 -> 0 | G76: ='POSEBNI DIO'!F25+'POSEBNI DIO'!F73 -> 600 | H76: ='POSEBNI DIO'!G25+'POSEBNI DIO'!G73 -> 600 | I76: ='POSEBNI DIO'!H25+'POSEBNI DIO'!H73 -> 600 | J76: ='POSEBNI DIO'!I25+'POSEBNI DIO'!I73 -> 600
D77: 3235 | E77: Zakupnine i najamnine | F77: ='POSEBNI DIO'!E26 -> 35 | G77: ='POSEBNI DIO'!F26 -> 0 | H77: ='POSEBNI DIO'!G26 -> 0 | I77: ='POSEBNI DIO'!H26 -> 0 | J77: ='POSEBNI DIO'!I26 -> 0
D78: 3237 | E78: Intelektualne i osobne usluge | F78: ='POSEBNI DIO'!E28+'POSEBNI DIO'!E52+'POSEBNI DIO'!E74+'POSEBNI DIO'!E86 -> 5942.21 | G78: ='POSEBNI DIO'!F28+'POSEBNI DIO'!F52+'POSEBNI DIO'!F74+'POSEBNI DIO'!F86 -> 11334 | H78: ='POSEBNI DIO'!G28+'POSEBNI DIO'!G52+'POSEBNI DIO'!G74+'POSEBNI DIO'!G86 -> 10000 | I78: ='POSEBNI DIO'!H28+'POSEBNI DIO'!H52+'POSEBNI DIO'!H74+'POSEBNI DIO'!H86 -> 9700 | J78: ='POSEBNI DIO'!I28+'POSEBNI DIO'!I52+'POSEBNI DIO'!I74+'POSEBNI DIO'!I86 -> 9700
D79: 3238 | E79: Računalne usluge | F79: ='POSEBNI DIO'!E29+'POSEBNI DIO'!E53+'POSEBNI DIO'!E75+'POSEBNI DIO'!E40 -> 666.42 | G79: ='POSEBNI DIO'!F29+'POSEBNI DIO'!F53+'POSEBNI DIO'!F75+'POSEBNI DIO'!F40 -> 2500 | H79: ='POSEBNI DIO'!G29+'POSEBNI DIO'!G53+'POSEBNI DIO'!G75+'POSEBNI DIO'!G40 -> 2500 | I79: ='POSEBNI DIO'!H29+'POSEBNI DIO'!H53+'POSEBNI DIO'!H75+'POSEBNI DIO'!H40 -> 2500 | J79: ='POSEBNI DIO'!I29+'POSEBNI DIO'!I53+'POSEBNI DIO'!I75+'POSEBNI DIO'!I40 -> 2500
D80: 3239 | E80: Ostale usuge | F80: ='POSEBNI DIO'!E30+'POSEBNI DIO'!E54+'POSEBNI DIO'!E76+'POSEBNI DIO'!E41 -> 656.06 | G80: ='POSEBNI DIO'!F30+'POSEBNI DIO'!F54+'POSEBNI DIO'!F76+'POSEBNI DIO'!F41 -> 1000 | H80: ='POSEBNI DIO'!G30+'POSEBNI DIO'!G54+'POSEBNI DIO'!G76+'POSEBNI DIO'!G41 -> 2100 | I80: ='POSEBNI DIO'!H30+'POSEBNI DIO'!H54+'POSEBNI DIO'!H76+'POSEBNI DIO'!H41 -> 1000 | J80: ='POSEBNI DIO'!I30+'POSEBNI DIO'!I54+'POSEBNI DIO'!I76+'POSEBNI DIO'!I41 -> 1000
C81: 324 | F81: =SUM(F82:F82) -> 0 | G81: =SUM(G82:G82) -> 0 | H81: =SUM(H82:H82) -> 0 | I81: =SUM(I82:I82) -> 0 | J81: =SUM(J82:J82) -> 0
D82: 3241 | E82: Naknade troškova osobama izvan radnog odnosa | F82: 0 | G82: ='POSEBNI DIO'!F31+'POSEBNI DIO'!F77 -> 0 | H82: ='POSEBNI DIO'!G31+'POSEBNI DIO'!G77 -> 0 | I82: ='POSEBNI DIO'!H31+'POSEBNI DIO'!H77 -> 0 | J82: ='POSEBNI DIO'!I31+'POSEBNI DIO'!I77 -> 0
C83: 329 | F83: =SUM(F84:F88) -> 182.47 | G83: =SUM(G84:G88) -> 2320 | H83: =SUM(H84:H88) -> 2000 | I83: =SUM(I84:I88) -> 1200 | J83: =SUM(J84:J88) -> 1200
D84: 3292 | E84: Premije osiguranja | F84: ='POSEBNI DIO'!E78+'POSEBNI DIO'!E42+'POSEBNI DIO'!E55 -> 0 | G84: ='POSEBNI DIO'!F78+'POSEBNI DIO'!F42+'POSEBNI DIO'!F55 -> 1100 | H84: ='POSEBNI DIO'!G78+'POSEBNI DIO'!G42+'POSEBNI DIO'!G55 -> 0 | I84: ='POSEBNI DIO'!H78+'POSEBNI DIO'!H42+'POSEBNI DIO'!H55 -> 0 | J84: ='POSEBNI DIO'!I78+'POSEBNI DIO'!I42+'POSEBNI DIO'!I55 -> 0
D85: 3293 | E85: Reprezentacija | F85: ='POSEBNI DIO'!E32+'POSEBNI DIO'!E56+'POSEBNI DIO'!E79+'POSEBNI DIO'!E87 -> 182.47 | G85: ='POSEBNI DIO'!F32+'POSEBNI DIO'!F56+'POSEBNI DIO'!F79+'POSEBNI DIO'!F87 -> 970 | H85: ='POSEBNI DIO'!G32+'POSEBNI DIO'!G56+'POSEBNI DIO'!G79+'POSEBNI DIO'!G87 -> 1750 | I85: ='POSEBNI DIO'!H32+'POSEBNI DIO'!H56+'POSEBNI DIO'!H79+'POSEBNI DIO'!H87 -> 950 | J85: ='POSEBNI DIO'!I32+'POSEBNI DIO'!I56+'POSEBNI DIO'!I79+'POSEBNI DIO'!I87 -> 950
D86: 3294 | E86: Članarine | F86: ='POSEBNI DIO'!E33+'POSEBNI DIO'!E80 -> 0 | G86: ='POSEBNI DIO'!F33+'POSEBNI DIO'!F80 -> 50 | H86: ='POSEBNI DIO'!G33+'POSEBNI DIO'!G80 -> 50 | I86: ='POSEBNI DIO'!H33+'POSEBNI DIO'!H80 -> 50 | J86: ='POSEBNI DIO'!I33+'POSEBNI DIO'!I80 -> 50
D87: 3295 | E87: Pristojbe i naknade | F87: ='POSEBNI DIO'!E34 -> 0 | G87: ='POSEBNI DIO'!F34 -> 100 | H87: ='POSEBNI DIO'!G34 -> 100 | I87: ='POSEBNI DIO'!H34 -> 100 | J87: ='POSEBNI DIO'!I34 -> 100
D88: 3299 | E88: Ostali nespomenuti rashodi poslovanja | F88: ='POSEBNI DIO'!E35+'POSEBNI DIO'!E57+'POSEBNI DIO'!E81 -> 0 | G88: ='POSEBNI DIO'!F35+'POSEBNI DIO'!F57+'POSEBNI DIO'!F81 -> 100 | H88: ='POSEBNI DIO'!G35+'POSEBNI DIO'!G57+'POSEBNI DIO'!G81 -> 100 | I88: ='POSEBNI DIO'!H35+'POSEBNI DIO'!H57+'POSEBNI DIO'!H81 -> 100 | J88: ='POSEBNI DIO'!I35+'POSEBNI DIO'!I57+'POSEBNI DIO'!I81 -> 100
B89: 34 | E89: Financijski rashodi | F89: =F90 -> 274.63 | G89: =G90 -> 350 | H89: =H90 -> 0 | I89: =I90 -> 0 | J89: =J90 -> 0
C90: 343 | F90: =SUM(F91:F93) -> 274.63 | G90: =SUM(G91:G93) -> 350 | H90: =SUM(H91:H93) -> 0 | I90: =SUM(I91:I93) -> 0 | J90: =SUM(J91:J93) -> 0
D91: 3431 | E91: Bankarske usluge i usluge platnog prometa | F91: ='POSEBNI DIO'!E37+'POSEBNI DIO'!E59 -> 274.63 | G91: ='POSEBNI DIO'!F37+'POSEBNI DIO'!F59 -> 350 | H91: ='POSEBNI DIO'!G37+'POSEBNI DIO'!G59 -> 0 | I91: ='POSEBNI DIO'!H37+'POSEBNI DIO'!H59 -> 0 | J91: ='POSEBNI DIO'!I37+'POSEBNI DIO'!I59 -> 0
D92: 3432 | E92: Negativne tečajne razlike zbog primjene valutne klauze | F92: ='POSEBNI DIO'!E60 -> 0 | G92: ='POSEBNI DIO'!F60 -> 0 | H92: ='POSEBNI DIO'!G60 -> 0 | I92: ='POSEBNI DIO'!H60 -> 0 | J92: ='POSEBNI DIO'!I60 -> 0
D93: 3433 | E93: Ostali nespomenuti financijski rashodi | F93: ='POSEBNI DIO'!E61 -> 0 | G93: ='POSEBNI DIO'!F61 -> 0 | H93: ='POSEBNI DIO'!G61 -> 0 | I93: ='POSEBNI DIO'!H61 -> 0 | J93: ='POSEBNI DIO'!I61 -> 0
A95: 4 | E95: Rashodi za nabavu nefinancijske imovine | F95: =F96+F104 -> 15579.44 | G95: =G96+G104 -> 17100 | H95: =H96+H104 -> 15100 | I95: =I96+I104 -> 17600 | J95: =J96+J104 -> 17600
B96: 42 | E96: Rashodi za nabavu proizvedene dugotrajne imovine | F96: =F97+F102 -> 15579.44 | G96: =G97+G102 -> 17100 | H96: =H97+H102 -> 15100 | I96: =I97+I102 -> 17600 | J96: =J97+J102 -> 17600
C97: 422 | F97: =SUM(F98:F101) -> 3057.99 | G97: =SUM(G98:G101) -> 4600 | H97: =SUM(H98:H101) -> 2100 | I97: =SUM(I98:I101) -> 4600 | J97: =SUM(J98:J101) -> 4600
D98: 4221 | E98: Uredska oprema i namještaj | F98: ='POSEBNI DIO'!E91+'POSEBNI DIO'!E98+'POSEBNI DIO'!E102 -> 1537.53 | G98: ='POSEBNI DIO'!F91+'POSEBNI DIO'!F98+'POSEBNI DIO'!F102 -> 4000 | H98: ='POSEBNI DIO'!G91+'POSEBNI DIO'!G98+'POSEBNI DIO'!G102 -> 1500 | I98: ='POSEBNI DIO'!H91+'POSEBNI DIO'!H98+'POSEBNI DIO'!H102 -> 4000 | J98: ='POSEBNI DIO'!I91+'POSEBNI DIO'!I98+'POSEBNI DIO'!I102 -> 4000
D99: 4222 | E99: Komunikacijska oprema | F99: ='POSEBNI DIO'!E92 -> 0 | G99: ='POSEBNI DIO'!F92 -> 300 | H99: ='POSEBNI DIO'!G92 -> 300 | I99: ='POSEBNI DIO'!H92 -> 300 | J99: ='POSEBNI DIO'!I92 -> 300
D100: 4223 | E100: Oprema za održavanje i zaštitu | F100: ='POSEBNI DIO'!E93+'POSEBNI DIO'!E103 -> 0 | G100: ='POSEBNI DIO'!F93+'POSEBNI DIO'!F103 -> 300 | H100: ='POSEBNI DIO'!G93+'POSEBNI DIO'!G103 -> 300 | I100: ='POSEBNI DIO'!H93+'POSEBNI DIO'!H103 -> 300 | J100: ='POSEBNI DIO'!I93+'POSEBNI DIO'!I103 -> 300
D101: 4227 | E101: Uređaji, strojevi i oprema za ostale namjene | F101: ='POSEBNI DIO'!E94 -> 1520.46 | G101: ='POSEBNI DIO'!F94 -> 0 | H101: ='POSEBNI DIO'!G94 -> 0 | I101: ='POSEBNI DIO'!H94 -> 0 | J101: ='POSEBNI DIO'!I94 -> 0
C102: 424 | F102: =SUM(F103) -> 12521.45 | G102: =SUM(G103) -> 12500 | H102: =SUM(H103) -> 13000 | I102: =SUM(I103) -> 13000 | J102: =SUM(J103) -> 13000
D103: 4241 | E103: Knjige za knjižnice | F103: ='POSEBNI DIO'!E95+'POSEBNI DIO'!E99+'POSEBNI DIO'!E104 -> 12521.45 | G103: ='POSEBNI DIO'!F95+'POSEBNI DIO'!F99+'POSEBNI DIO'!F104 -> 12500 | H103: ='POSEBNI DIO'!G95+'POSEBNI DIO'!G99+'POSEBNI DIO'!G104 -> 13000 | I103: ='POSEBNI DIO'!H95+'POSEBNI DIO'!H99+'POSEBNI DIO'!H104 -> 13000 | J103: ='POSEBNI DIO'!I95+'POSEBNI DIO'!I99+'POSEBNI DIO'!I104 -> 13000
B104: 43 | F104: =F105 -> 0 | G104: =G105 -> 0 | H104: =H105 -> 0 | I104: =I105 -> 0 | J104: =J105 -> 0
C105: 431 | F105: =SUM(F106) -> 0 | G105: =SUM(G106) -> 0 | H105: =SUM(H106) -> 0 | I105: =SUM(I106) -> 0 | J105: =SUM(J106) -> 0
B106: … | D106: 4319 | E106: Pohranjene knjige, umjetnička djela i slične vrijednosti

Sheet Prihodi i rashodi po izvorima
A1: FINANCIJSKI PLAN NARODNE KNJIŽNICE I ČITAONICE KLIS ZA 2026. I PROJEKCIJA ZA 2027. I 2028. GODINU
A3: I. OPĆI DIO
A5: A. RAČUN PRIHODA I RASHODA
A7: PRIHODI POSLOVANJA PREMA IZVORIMA FINANCIRANJA
A9: Brojčana oznaka i naziv | B9: Izvršenje 2024. | C9: Plan 2025. | D9: Proračun za 2026. | E9: Projekcija proračuna za 2027. | F9: Projekcija proračuna za 2028.
A10: PRIHODI UKUPNO | B10: =B11+B14+B16+B18 -> 78820.07 | C10: =C11+C14+C16+C18 -> 111325 | D10: =D11+D14+D16+D18 -> 132245 | E10: =E11+E14+E16+E18 -> 122290 | F10: =F11+F14+F16+F18 -> 122644
A11: 1 Opći prihodi i primici | B11: =SUM(B12:B13) -> 64689.51 | C11: =SUM(C12:C13) -> 100710 | D11: =SUM(D12:D13) -> 108785 | E11: =SUM(E12:E13) -> 111230 | F11: =SUM(F12:F13) -> 111584
A12: 11 Opći prihodi i primici | B12: =' Račun prihoda i rashoda'!F33 -> 64689.51 | C12: =' Račun prihoda i rashoda'!G33 -> 100710 | D12: =' Račun prihoda i rashoda'!H33 -> 108785 | E12: =' Račun prihoda i rashoda'!I33 -> 111230 | F12: =' Račun prihoda i rashoda'!J33 -> 111584
A13: 12 Opći prihodi i primici proračunskih korisnika | B13: 0 | C13: 0 | D13: 0 | E13: 0 | F13: 0
A14: 51 Programi Unije | B14: =SUM(B15) -> 0 | C14: =SUM(C15) -> 0 | D14: =SUM(D15) -> 5800 | E14: =SUM(E15) -> 0 | F14: =SUM(F15) -> 0
A15: 51 Programi Unije | B15: ='POSEBNI DIO'!E113 -> 0 | C15: ='POSEBNI DIO'!F113 -> 0 | D15: ='POSEBNI DIO'!G113 -> 5800 | E15: ='POSEBNI DIO'!H113 -> 0 | F15: ='POSEBNI DIO'!I113 -> 0
A16: 2 Vlastiti prihodi | B16: =SUM(B17) -> 312.96 | C16: =SUM(C17) -> 1615 | D16: =SUM(D17) -> 360 | E16: =SUM(E17) -> 360 | F16: =SUM(F17) -> 360
A17: 22 Vlastiti prihodi proračunskih korisnika | B17: =' Račun prihoda i rashoda'!F21+' Račun prihoda i rashoda'!F39+' Račun prihoda i rashoda'!F26 -> 312.96 | C17: =' Račun prihoda i rashoda'!G21+' Račun prihoda i rashoda'!G39+' Račun prihoda i rashoda'!G26 -> 1615 | D17: =' Račun prihoda i rashoda'!H21+' Račun prihoda i rashoda'!H39+' Račun prihoda i rashoda'!H26 -> 360 | E17: =' Račun prihoda i rashoda'!I21+' Račun prihoda i rashoda'!I39+' Račun prihoda i rashoda'!I26 -> 360 | F17: =' Račun prihoda i rashoda'!J21+' Račun prihoda i rashoda'!J39+' Račun prihoda i rashoda'!J26 -> 360
A18: 50 Pomoći | B18: =SUM(B19) -> 13817.6 | C18: =SUM(C19) -> 9000 | D18: =SUM(D19) -> 17300 | E18: =SUM(E19) -> 10700 | F18: =SUM(F19) -> 10700
A19: 50 Pomoći iz državnog proračuna | B19: =' Račun prihoda i rashoda'!F12 -> 13817.6 | C19: =' Račun prihoda i rashoda'!G12 -> 9000 | D19: =' Račun prihoda i rashoda'!H12 -> 17300 | E19: =' Račun prihoda i rashoda'!I12 -> 10700 | F19: =' Račun prihoda i rashoda'!J12 -> 10700
A23: RASHODI POSLOVANJA PREMA IZVORIMA FINANCIRANJA
A25: Brojčana oznaka i naziv | B25: Izvršenje 2024. | C25: Plan 2025. | D25: Proračun za 2026. | E25: Projekcija proračuna za 2027. | F25: Projekcija proračuna za 2028.
A26: RASHODI UKUPNO | B26: =B27+B30+B32+B34+B36 -> 76376.61 | C26: =C27+C30+C32+C34+C36 -> 123228.2 | D26: =D27+D30+D32+D34+D36 -> 126595 | E26: =E27+E30+E32+E34 -> 122290 | F26: =F27+F30+F32+F34 -> 122644
A27: 1 Opći prihodi i primici | B27: =SUM(B28:B29) -> 64689.51 | C27: =SUM(C28:C29) -> 100710 | D27: =SUM(D28:D29) -> 108785 | E27: =SUM(E28:E29) -> 111230 | F27: =SUM(F28:F29) -> 111584
A28: 11 Opći prihodi i primici | B28: ='POSEBNI DIO'!E8+'POSEBNI DIO'!E89 -> 64689.51 | C28: ='POSEBNI DIO'!F8+'POSEBNI DIO'!F89 -> 100710 | D28: ='POSEBNI DIO'!G8+'POSEBNI DIO'!G89 -> 108785 | E28: ='POSEBNI DIO'!H8+'POSEBNI DIO'!H89 -> 111230 | F28: ='POSEBNI DIO'!I8+'POSEBNI DIO'!I89 -> 111584
A29: 12 Opći prihodi i primici proračunskih korisnika
A30: 51 Programi Unije | B30: =SUM(B31) -> 0 | C30: =SUM(C31) -> 3217.6 | D30: =SUM(D31) -> 5800 | E30: =SUM(E31) -> 0 | F30: =SUM(F31) -> 0
A31: 51 Programi Unije | B31: ='POSEBNI DIO'!E109 -> 0 | C31: ='POSEBNI DIO'!F109 -> 3217.6 | D31: ='POSEBNI DIO'!G113 -> 5800 | E31: ='POSEBNI DIO'!H113 -> 0 | F31: ='POSEBNI DIO'!I113 -> 0
A32: 2 Vlastiti prihodi | B32: =SUM(B33) -> 274.63 | C32: =SUM(C33) -> 4349 | D32: =SUM(D33) -> 360 | E32: =SUM(E33) -> 360 | F32: =SUM(F33) -> 360
A33: 22 Vlastiti prihodi proračunskih korisnika | B33: ='POSEBNI DIO'!E43 -> 274.63 | C33: ='POSEBNI DIO'!F43+'POSEBNI DIO'!F82 -> 4349 | D33: ='POSEBNI DIO'!G43+'POSEBNI DIO'!G82 -> 360 | E33: ='POSEBNI DIO'!H43+'POSEBNI DIO'!H82 -> 360 | F33: ='POSEBNI DIO'!I43+'POSEBNI DIO'!I82 -> 360
A34: 40 Pomoći | B34: =SUM(B35) -> 11412.47 | C34: =SUM(C35) -> 9000 | D34: =SUM(D35) -> 11500 | E34: =SUM(E35) -> 10700 | F34: =SUM(F35) -> 10700
A35: 44 Pomoći iz državnog proračuna | B35: ='POSEBNI DIO'!E62+'POSEBNI DIO'!E96 -> 11412.47 | C35: ='POSEBNI DIO'!F62+'POSEBNI DIO'!F96 -> 9000 | D35: ='POSEBNI DIO'!G62+'POSEBNI DIO'!G96 -> 11500 | E35: ='POSEBNI DIO'!H62+'POSEBNI DIO'!H96 -> 10700 | F35: ='POSEBNI DIO'!I62+'POSEBNI DIO'!I96 -> 10700
A36: 9 Višak | B36: =SUM(B37) -> 0 | C36: =SUM(C37) -> 5951.6 | D36: =SUM(D37) -> 150 | E36: =SUM(E37) -> 0 | F36: =SUM(F37) -> 0
A37: 9 Višak | B37: ='POSEBNI DIO'!E82+'POSEBNI DIO'!E105+'POSEBNI DIO'!E109 -> 0 | C37: ='POSEBNI DIO'!F82+'POSEBNI DIO'!F105+'POSEBNI DIO'!F109 -> 5951.6 | D37: ='POSEBNI DIO'!G82+'POSEBNI DIO'!G105+'POSEBNI DIO'!G109 -> 150 | E37: ='POSEBNI DIO'!H82+'POSEBNI DIO'!H105+'POSEBNI DIO'!H109 -> 0 | F37: ='POSEBNI DIO'!I82+'POSEBNI DIO'!I105+'POSEBNI DIO'!I109 -> 0

Sheet Rashodi prema funkcijskoj kl
A1: FINANCIJSKI PLAN NARODNE KNJIŽNICE I ČITAONICE KLIS ZA 2026. I PROJEKCIJA ZA 2027. I 2028. GODINU
A3: I. OPĆI DIO
A5: A. RAČUN PRIHODA I RASHODA
A7: RASHODI PREMA FUNKCIJSKOJ KLASIFIKACIJI
A9: Brojčana oznaka i naziv | B9: Izvršenje 2024. | C9: Plan 2025. | D9: Proračun za 2026. | E9: Projekcija proračuna za 2027. | F9: Projekcija proračuna za 2028.
A10: UKUPNI RASHODI | B10: =B11 -> 76376.61 | C10: =C11 -> 117276.6 | D10: =D11 -> 126595 | E10: =E11 -> 122290 | F10: =F11 -> 122644
A11: 08 Rekreacija, koltura i religija | B11: =B12 -> 76376.61 | C11: =C12 -> 117276.6 | D11: =D12 -> 126595 | E11: =E12 -> 122290 | F11: =F12 -> 122644
A12: 0860 Rashodi za rekreaciju, kulturu i religiju koji nisu drugdje svrstane | B12: =' Račun prihoda i rashoda'!F51 -> 76376.61 | C12: =' Račun prihoda i rashoda'!G51 -> 117276.6 | D12: =' Račun prihoda i rashoda'!H51 -> 126595 | E12: =' Račun prihoda i rashoda'!I51 -> 122290 | F12: =' Račun prihoda i rashoda'!J51 -> 122644

Sheet Račun financiranja
A1: FINANCIJSKI PLAN PRORAČUNSKOG KORISNIKA JEDINICE LOKALNE I PODRUČNE (REGIONALNE) SAMOUPRAVE ZA 2024. I PROJEKCIJA ZA 2025. I 2026. GODINU
A3: I. OPĆI DIO
A5: B. RAČUN FINANCIRANJA PREMA EKONOMSKOJ KLASIFIKACIJI
A7: Razred | B7: Skupina | C7: Naziv | D7: Izvršenje 2022. | E7: Plan 2023. | F7: Plan za 2024. | G7: Projekcija za 2025. | H7: Projekcija za 2026.
C8: PRIMICI UKUPNO
A9: 8 | C9: Primici od financijske imovine i zaduživanja
B10: 84 | C10: Primici od zaduživanja
C12: IZDACI UKUPNO
A13: 5 | C13: Izdaci za financijsku imovinu i otplate zajmova
B14: 54 | C14: Izdaci za otplatu glavnice primljenih kredita i zajmova

Sheet Račun financiranja po izvorima
A1: FINANCIJSKI PLAN PRORAČUNSKOG KORISNIKA JEDINICE LOKALNE I PODRUČNE (REGIONALNE) SAMOUPRAVE ZA 2024. I PROJEKCIJA ZA 2025. I 2026. GODINU
A3: I. OPĆI DIO
A5: B. RAČUN FINANCIRANJA PREMA IZVORIMA FINANCIRANJA
A7: Brojčana oznaka i naziv | B7: Izvršenje 2022. | C7: Plan 2023. | D7: Plan za 2024. | E7: Projekcija za 2025. | F7: Projekcija za 2026.
A8: PRIMICI UKUPNO
A9: 8 Namjenski primici od zaduživanja
A10: 81 Namjenski primici od zaduživanja
A12: IZDACI UKUPNO
A13: 1 Opći prihodi i primici
A14: 11 Opći prihodi i primici
A15: 3 Vlastiti prihodi
A16: 31 Vlastiti prihodi

Sheet POSEBNI DIO
A1: FINANCIJSKI PLAN NARODNE KNJIŽNICE I ČITAONICE KLIS ZA 2026. I PROJEKCIJA ZA 2027. I 2028. GODINU
A3: II. POSEBNI DIO
A5: Šifra | D5: Naziv | E5: Izvršenje 2024. | F5: Plan 2025. | G5: Proračun za 2026. | H5: Projekcija proračuna za 2027. | I5: Projekcija proračuna za 2028.
A6: PROGRAM 1003 | D6: KULTURA | E6: =E7+E88+E108 -> 76376.61 | F6: =F7+F88+F108 -> 117276.6 | G6: =G7+G88+G108 -> 126595 | H6: =H7+H88+H108 -> 122290 | I6: =I7+I88+I108 -> 122644
A7: Aktivnost A100306 | D7: Financiranje Narodne knjižnice i čitaonice u Klisu | E7: =E8+E43+E62+E82 -> 60797.17 | F7: =F8+F43+F62+F82+F38 -> 96959 | G7: =G8+G43+G62+G82+G38 -> 105545 | H7: =H8+H43+H62+H82+H38 -> 104690 | I7: =I8+I43+I62+I82+I38 -> 105044
A8: 1.1. | D8: Prihodi od poreza, imovine, pristojbi i kazni | E8: =E9+E13+E36 -> 59717.44 | F8: =F9+F13+F36 -> 92610 | G8: =G9+G13+G36 -> 103185 | H8: =H9+H13+H36 -> 103130 | I8: =I9+I13+I36 -> 103484
A9: 31 | D9: Rashodi za zaposlene | E9: =SUM(E10:E12) -> 48347.74 | F9: =SUM(F10:F12) -> 64760 | G9: =SUM(G10:G12) -> 74935 | H9: =SUM(H10:H12) -> 75280 | I9: =SUM(I10:I12) -> 75634
A10: 3111 | D10: Plaće za redovan rad | E10: 36098.72 | F10: 49560 | G10: 59000 | H10: =G10*1.005 -> 59295 | I10: 59600
A11: 3121 | D11: Ostali rashodi za zaposlene | E11: 6292.72 | F11: 6700 | G11: =1200+1200+1200+1200+700+700 -> 6200 | H11: 6200 | I11: 6200
A12: 3132 | D12: Doprinosi za obvezno zdravstveno osiguranje | E12: 5956.3 | F12: 8500 | G12: =G10*0.165 -> 9735 | H12: 9785 | I12: =I10*0.165 -> 9834
A13: 32 | D13: Materijalni rashodi | E13: =SUM(E14:E35) -> 11369.7 | F13: =SUM(F14:F35) -> 27850 | G13: =SUM(G14:G35) -> 28250 | H13: =SUM(H14:H35) -> 27850 | I13: =SUM(I14:I35) -> 27850
A14: 3211 | D14: Službena putovanja | E14: 0 | F14: 1500 | G14: 1500 | H14: 1500 | I14: 1500
A15: 3212 | D15: Naknada za prijevoz, za rad na terenu i odvojeni život | E15: 2520 | F15: 5000 | G15: 2900 | H15: 5000 | I15: 5000
A16: 3213 | D16: Stručno usavršavanje zaposlenika | E16: 0 | F16: 1500 | G16: 1000 | H16: 1500 | I16: 1500
A17: 3221 | D17: Uredski materijal i ostali materijalni rashodi | E17: 266.63 | F17: 1500 | G17: 1500 | H17: 1500 | I17: 1500
A18: 3222 | D18: Materijalni rashodi | E18: 130.81 | F18: 700 | G18: 700 | H18: 700 | I18: 700
A19: 3223 | D19: Energija | F19: 1000 | G19: 1000 | H19: 1000 | I19: 1000
A20: 3224 | D20: Materijal i djelovi za tekuće održavanje | E20: 149.7 | F20: 400 | G20: 400 | H20: 400 | I20: 400
A21: 3225 | D21: Sitni inventar | E21: 0 | F21: 500 | G21: 500 | H21: 500 | I21: 500
A22: 3231 | D22: Usluge telefona, pošte i prijevoza | E22: 333.12 | F22: 700 | G22: 700 | H22: 700 | I22: 700
A23: 3232 | D23: Usluge tekućeg i investicijskog održavanja | E23: 290.17 | F23: 600 | G23: =600+500+1500-100 -> 2500 | H23: 600 | I23: 600
A24: 3233 | D24: Usluge promidžbe i informiranja | E24: 541.25 | F24: 600 | G24: 600 | H24: 600 | I24: 600
A25: 3234 | D25: Komunalne usluge | F25: 600 | G25: 600 | H25: 600 | I25: 600
A26: 3235 | D26: Zakupnine i najamnine | E26: 35
A27: 3236 | D27: Zdravstvene i veterinarske usluge | E27: 0
A28: 3237 | D28: Intelektualne i osobne usluge | E28: 5682.21 | F28: 9000 | G28: 9000 | H28: 9000 | I28: 9000
A29: 3238 | D29: Računalne usluge | E29: 666.42 | F29: 2500 | G29: 2500 | H29: 2500 | I29: 2500
A30: 3239 | D30: Ostale usluge | E30: 656.06 | F30: 1000 | G30: 2100 | H30: 1000 | I30: 1000
A31: 3241 | D31: Naknade troškova osobama izvan radnog odnosa
A32: 3293 | D32: Reprezentacija | E32: 98.33 | F32: 500 | G32: 500 | H32: 500 | I32: 500
A33: 3294 | D33: Članarine | F33: 50 | G33: 50 | H33: 50 | I33: 50
A34: 3295 | D34: Pristojbe i naknade | F34: 100 | G34: 100 | H34: 100 | I34: 100
A35: 3299 | D35: Ostali nespomenuti rashodi poslovanja | F35: 100 | G35: 100 | H35: 100 | I35: 100
A36: 34 | D36: Financijski rashodi | E36: =SUM(E37:E37) -> 0 | F36: =SUM(F37:F37) -> 0 | G36: =SUM(G37:G37) -> 0 | H36: =SUM(H37:H37) -> 0 | I36: =SUM(I37:I37) -> 0
A37: 3431 | D37: Bankarske usluge i usluge platnog prometa | F37: 0 | G37: 0 | H37: 0 | I37: 0
A38: 1.2. | D38: Prihodi od poreza, imovine, pristojbi i kazni proračunskih korisnika | E38: =E39 -> 0 | F38: =F39 -> 0 | G38: =G39 -> 0 | H38: =H39 -> 0 | I38: =I39 -> 0
A39: 32 | D39: Materijalni rashodi | E39: =SUM(E40:E42) -> 0 | F39: =SUM(F40:F42) -> 0 | G39: =SUM(G40:G42) -> 0 | H39: =SUM(H40:H42) -> 0 | I39: =SUM(I40:I42) -> 0
A40: 3238 | D40: Računalne usluge
A41: 3239 | D41: Ostale usluge
A42: 3292 | D42: Premije osiguranja | F42: 0 | G42: 0 | H42: 0 | I42: 0
A43: 2.2. | D43: Vlastiti prihodi proračunkih korisnika | E43: =E44+E46+E58 -> 274.63 | F43: =F44+F46+F58 -> 1615 | G43: =G44+G46+G58 -> 360 | H43: =H44+H46+H58 -> 360 | I43: =I44+I46+I58 -> 360
A44: 31 | D44: Rashodi za zaposlene | E44: =SUM(E45) -> 0 | F44: =SUM(F45) -> 0 | G44: =SUM(G45) -> 0 | H44: =SUM(H45) -> 0 | I44: =SUM(I45) -> 0
A45: 3121 | D45: Ostali rashodi za zaposlene
A46: 32 | D46: Materijalni rashodi | E46: =SUM(E47:E57) -> 0 | F46: =SUM(F47:F57) -> 1265 | G46: =SUM(G47:G57) -> 360 | H46: =SUM(H47:H57) -> 360 | I46: =SUM(I47:I57) -> 360
A47: 3221 | D47: Uredski materijal i ostali materijalni rashodi | F47: 80 | G47: 80 | H47: 80 | I47: 80
A48: 3222 | D48: Materijal i sirovine | E48: 0
A49: 3225 | D49: Sitni inventar i auto gume | E49: 0
A50: 3231 | D50: Usluge telefona, pošte i prijevoza | E50: 0 | F50: 15 | G50: 30 | H50: 30 | I50: 30
A51: 3232 | D51: Usluge tekućeg i investicijsog održavanja
A52: 3237 | D52: Intelektualne i osobne usluge
A53: 3238 | D53: Računalne usluge
A54: 3239 | D54: Ostale usluge
A55: 3292 | D55: Premije osiguranja | F55: 1100 | G55: 0 | H55: 0 | I55: 0
A56: 3293 | D56: Reprezentacija | E56: 0 | F56: 70 | G56: 250 | H56: 250 | I56: 250
A57: 3299 | D57: Ostali nespomenuti rashodi poslovanja
A58: 34 | D58: Financijski rashodi | E58: =SUM(E59:E61) -> 274.63 | F58: =SUM(F59:F61) -> 350 | G58: =SUM(G59:G61) -> 0 | H58: =SUM(H59:H61) -> 0 | I58: =SUM(I59:I61) -> 0
A59: 3431 | D59: Bankarske usluge i usluge platnog prometa | E59: 274.63 | F59: 350 | G59: 0 | H59: 0 | I59: 0
A60: 3432 | D60: Negativne tečajne razlike zbog primjene valutne klauze | E60: 0
A61: 3434 | D61: Ostali nespomenuti financijski rashodi | E61: 0
A62: 5.0. | D62: Pomoći iz državnog proračuna | E62: =E63 -> 805.1 | F62: =F63 -> 0 | G62: =G63 -> 2000 | H62: =H63 -> 1200 | I62: =I63 -> 1200
A63: 32 | D63: Materijalni rashodi | E63: =SUM(E64:E81) -> 805.1 | F63: =SUM(F64:F81) -> 0 | G63: =SUM(G64:G81) -> 2000 | H63: =SUM(H64:H81) -> 1200 | I63: =SUM(I64:I81) -> 1200
A64: 3211 | D64: Službena putovanja
A65: 3213 | D65: Stručno usavršavanje zaposlenika
A66: 3214 | D66: Ostale naknade troškova zaposlenicima
A67: 3221 | D67: Uredski materijal i ostali materijalni rashodi | E67: 460.96 | F67: 0 | G67: 0 | H67: 300 | I67: 300
A68: 3223 | D68: Energija
A69: 3225 | D69: Sitni inventar
A70: 3231 | D70: Usluge telefona, pošte i prijevoza
A71: 3232 | D71: Usluge tekućeg i investicijskog održavanja
A72: 3233 | D72: Usluge promidžbe i informiranja
A73: 3234 | D73: Komunalne usluge
A74: 3237 | D74: Intelektualne i osobne usluge | E74: 260 | F74: 0 | G74: 1000 | H74: 700 | I74: 700
A75: 3238 | D75: Računalne usluge
A76: 3239 | D76: Ostale usluge
A77: 3241 | D77: Naknade troškova osobama izvan radnog odnosa
A78: 3292 | D78: Premije osiguranja
A79: 3293 | D79: Reprezentacija | E79: 84.14 | F79: 0 | G79: 1000 | H79: 200 | I79: 200
A80: 3294 | D80: Članarine
A81: 3299 | D81: Ostali nespomenuti rashodi poslovanja
A82: 9.3. | D82: Vlastiti prihodi i primici - preneseni višak VLASTITA SREDSTVA | E82: =E83 -> 0 | F82: =F83 -> 2734 | G82: =G83 -> 0 | H82: =H83 -> 0 | I82: =I83 -> 0
A83: 32 | D83: Materijalni rashodi | E83: =SUM(E84:E87) -> 0 | F83: =SUM(F84:F87) -> 2734 | G83: =SUM(G84:G87) -> 0 | H83: =SUM(H84:H87) -> 0 | I83: =SUM(I84:I87) -> 0
A84: 3221 | D84: Uredski materijal i ostali materijalni rashodi | E84: 0 | H84: 0 | I84: 0
A85: 3231 | D85: Usluge telefona, pošte i prijevoza | E85: 0
A86: 3237 | D86: Intelektualne i osobne usluge | E86: 0 | F86: 2334 | G86: 0
A87: 3293 | D87: Reprezentacija | E87: 0 | F87: 400 | G87: 0
A88: Kapitalni projekt K100301 | D88: Kapitalna ulaganja u Narodnu knjižnicu i čitaonicu u Klisu | E88: =E89++E96+E100+E105 -> 15579.44 | F88: =F89++F96+F100+F105 -> 17100 | G88: =G89++G96+G100+G105 -> 15100 | H88: =H89++H96+H100+H105 -> 17600 | I88: =I89++I96+I100+I105 -> 17600
A89: 1.1. | D89: OPĆI PRIHODI I PRIMICI | E89: =E90 -> 4972.07 | F89: =F90 -> 8100 | G89: =G90 -> 5600 | H89: =H90 -> 8100 | I89: =I90 -> 8100
A90: 42 | D90: Rashodi za nabavu proizvedene dugotrajne imovine | E90: =SUM(E91:E95) -> 4972.07 | F90: =SUM(F91:F95) -> 8100 | G90: =SUM(G91:G95) -> 5600 | H90: =SUM(H91:H95) -> 8100 | I90: =SUM(I91:I95) -> 8100
A91: 4221 | D91: Uredska oprema i namještaj | E91: 460 | F91: 4000 | G91: 1500 | H91: 4000 | I91: 4000
A92: 4222 | D92: Komunikacijska oprema | E92: 0 | F92: 300 | G92: 300 | H92: 300 | I92: 300
A93: 4223 | D93: Oprema za održavanje i zaštitu | F93: 300 | G93: 300 | H93: 300 | I93: 300
A94: 4227 | D94: Uređaji, strojevi i oprema za ostale namjene | E94: 1520.46
A95: 4241 | D95: Knjige u knjižnicama | E95: 2991.61 | F95: 3500 | G95: 3500 | H95: 3500 | I95: 3500
A96: 5.0. | D96: Pomoći iz državnog proračuna | E96: =E97 -> 10607.37 | F96: =F97 -> 9000 | G96: =G97 -> 9500 | H96: =H97 -> 9500 | I96: =I97 -> 9500
A97: 42 | D97: Rashodi za nabavu proizvedene dugotrajne imovine | E97: =SUM(E98:E99) -> 10607.37 | F97: =SUM(F98:F99) -> 9000 | G97: =SUM(G98:G99) -> 9500 | H97: =SUM(H98:H99) -> 9500 | I97: =SUM(I98:I99) -> 9500
A98: 4221 | D98: Uredska oprema i namještaj | E98: 1077.53
A99: 4241 | D99: Knjige | E99: 9529.84 | F99: 9000 | G99: =3500+6000 -> 9500 | H99: 9500 | I99: 9500
A100: 1.2. | D100: Prihodi od poreza, imovine, pristojbi i kazni proračunskih korisnika | E100: =E101 -> 0 | F100: =F101 -> 0 | G100: =G101 -> 0 | H100: =H101 -> 0 | I100: =I101 -> 0
A101: 42 | D101: Rashodi za nabavu proizvedene dugotrajne imovine | E101: =SUM(E102:E104) -> 0 | F101: =SUM(F102:F104) -> 0 | G101: =SUM(G102:G104) -> 0 | H101: =SUM(H102:H104) -> 0 | I101: =SUM(I102:I104) -> 0
A102: 4221 | D102: Uredska oprema i namještaj
...
